Workbook
Name Contract_type: '[1]Drop-down'!$E$2:$E$3
Name Themes: '[1]Drop-down'!$C$2:$C$8
Name Type_Link: '[1]Drop-down'!$F$2:$F$7
Name YesNo: '[1]Drop-down'!$D$2:$D$3

Sheet Přehled
B2: Cyrrus, a.s. | C2: (Název OCP přepište ve žlutém poli, tím se název propíše do všech šablon) | D2: informace na individuálním základě
B4: Šablony pro uveřejňování informací obchodníky s cennými papíry (pracovní pomůcka pro OCP třídy 2)
B5: Tyto šabony vyplní obchodníci s cennými papíry, kteří nesplňují podmínky čl. 12 odst. 1 IFR pro to, aby mohli být považováni za malé a nepropojené investiční podniky (OCP třídy 2)
B6: Uveřejňování informací podle části šesté nařízení Evropského parlamentu a Rady (EU) č. 2019/2033 (IFR) a podle Prováděcího nařízení Komise (EU) 2021/2284 ze dne 10. prosince 2021, kterým se stanoví prováděcí technické normy pro uplatňování nařízení Evropského parlamentu a Rady (EU) 2019/2033, pokud jde o podávání zpráv pro účely dohledu a zpřístupňování informací investičními podniky (ITS k výkaznictví a uveřejňování investičními podniky)
B8: Přehled
B10: Zkratka šablony/ tabulky | C10: Název | D10: Vazba na legislativu | E10: Povinná osoba vyplňuje: ANO/NE | F10: Poznámka
C11: Cíle a zásady řízení rizik
B12: IF RM1 | C12: Stručné prohlášení o riziku schválené vedoucím orgánem | D12: čl. 47 IFR | E12: ANO
B13: IF RM2 | C13: Cíle a zásady řízení rizik včetně strategie a procesů řízení rizik | D13: čl. 47 IFR | E13: ANO
C14: Správa a řízení
B15: IF G1 | C15: Funkce zastávané v orgánech jiných právnických osob členy vedoucího orgánu OCP | D15: čl. 48 písm. a) IFR | E15: ANO
B16: IF G2 | C16: Politika různorodosti a zřízení výboru pro rizika | D16: čl. 48 písm. b) a c) IFR | E16: ANO
C17: Zpřístupňování informací o kapitálu
B18: EU I CC1.01 | C18: Složení regulatorního kapitálu | D18: čl. 49(1)c) IFR a přílohy VI a VII ITS k výkaznictví a uveřejňování investičními podniky(*) | E18: ANO
B19: EU I CC2 | C19: Kapitál: Sesouhlasení regulatorního kapitálu s rozvahou v auditované účetní závěrce | D19: čl. 49(1)(a) IFR a přílohy VI a VII ITS k výkaznictví a uveřejňování investičními podniky(*) | E19: ANO
B20: EU I CCA | C20: Kapitál: Hlavní rysy vlastních nástrojů vydaných investičním podnikem | D20: čl. 49(1)(b) IFR a přílohy VI a VII ITS k výkaznictví a uveřejňování investičními podniky(*)
C21: Kapitálové požadavky
B22: IF KP1 | C22: Kapitálové požadavky - kvantitativní informace | D22: čl. 50 písm. c) a d) IFR | E22: ANO
B23: IF KP2 | C23: Kapitálové požadavky - hodnocení přiměřenosti vnitřně stanoveného kapitálu | D23: čl. 50 písm. a) a b) IFR | E23: ANO
C24: Odměňování
B25: IF O1 | C25: Informace o odměňování - část první | D25: čl. 51(a), (b) IFR | E25: ANO
B26: IF O2 | C26: Informace o odměňování - část druhá | D26: čl. 51(c) IFR | E26: ANO
C27: Zpřístupňování investiční politiky
B28: IF IP1 | C28: Podíl hlasovacích práv | D28: čl. 52(1)(a) IFR a RTS k uveřejňování investiční politiky(**) | F28: Uveřejní pouze OCP, jejichž hodnota rozvahových a podrozvahových aktiv je větší než 100 mil EUR (v průměru za předchozí 4 roky)
B29: IF IP2 | C29: Hlasování | D29: čl. 52(1)(b) IFR a RTS k uveřejňování investiční politiky(**)
B30: IF IP3 | C30: Zmocněné poradenské podniky | D30: čl. 52(1)(c) IFR a RTS k uveřejňování investiční politiky(**)
B31: IF IP4 | C31: Pokyny k hlasování | D31: čl. 52(1)(d) IFR a RTS k uveřejňování investiční politiky(**)
C32: ESG rizika
B33: IF ESG | C33: Informace o ESG rizicích | D33: čl. 53 IFR | F33: Uveřejní pouze OCP, jejichž hodnota rozvahových a podrozvahových aktiv je větší než 100 mil EUR (v průměru za předchozí 4 roky)
B35: (*) Prováděcí nařízení Komise (EU) 2021/2284 ze dne 10. prosince 2021, kterým se stanoví prováděcí technické normy pro uplatňování nařízení Evropského parlamentu a Rady (EU) 2019/2033, pokud jde o podávání zpráv pro účely dohledu a zpřístupňování informací investičními podniky
B36: (**) Nařízení Komise v přenesené pravomoci (EU) 2022/1159 ze dne 11. března 2022, kterým se doplňuje nařízení Evropského parlamentu a Rady (EU) 2019/2033, pokud jde o regulační technické normy pro veřejné zpřístupňování investiční politiky investičními podniky

Sheet IF RM1
B2: =+Přehled!B2 -> Cyrrus, a.s. | D2: informace na individuálním základě
B4: IF RM1: Stručné prohlášení o riziku schválené vedoucím orgánem
B5: Vazba na legislativu: článek 47 nařízení Evropského parlamentu a Rady (EU) č. 2019/2033 (IFR).
B6: Informace uveřejní OCP třídy 2.
B7: Informace platné k datu: | D7: 44926
D8: zde vyplněné datum se vyplní do ostatních listů Šablon
D10: a
D11: Volný text
B12: 1 | C12: Stručné prohlášení o riziku, schválené vedoucím orgánem OCP, které výstižně popisuje celkový rizikový profil investičního podniku související se strategií podnikání. | D12: V oblasti řízení rizik společnost vychází z příslušných ustanovení zákona č. 256/2004 Sb., o podnikání na kapitálovém trhu, směrnici o nařízením o trzích finančních nástrojů (MIFID/MiFIR). Směrnicí evropského parlamentu a rady 2019/2034 (IFD) a nařízením Evropského parlamentu a rady 2019/2033 ( IFR). V rámci organizační struktury společnosti je činnost řízení rizik zajištěna risk manažerem, dále je zřízen Výbor pro řízení rizik. . Činnost společnosti má těžiště zejména v poskytování investiční služby příjímání a předávání pokynu, obchodování na vlastní účet a obhospodařování individuálních portfolií zákazníků. Z tohoto titulu jsou pro společnost relevantní zejména rizika vyplývající ze vztahu k zákazníkovi, tržní rizika, rizika likvidity a operační riziko.

Sheet IF RM2
B2: =+Přehled!B2 -> Cyrrus, a.s. | D2: informace na individuálním základě
B4: IF RM2: Cíle a zásady řízení rizik
B5: Vazba na legislativu: článek 47 nařízení Evropského parlamentu a Rady (EU) č. 2019/2033 (IFR).
B6: Informace uveřejní OCP třídy 2.
B7: Informace platné k datu: | D7: ='IF RM1'!D7 -> 44926
D10: a
D11: Volný text
B12: 1 | C12: Cíle a zásady řízení rizik pro samostatnou kategorii rizik v části třetí IFR "Kapitálové požadavky", včetně shrnutí strategií a procesů pro řízení těchto rizik(*) | D12: Riziko pro zákazníka Riziko pro zákazníka souvisí s poskytováním investičních služeb příjímání a předávání pokynů, obhodpodařování individuálního portfolia zákazníka a investičního poradenství. Rizika pro zákazníka plynoucí z těchto činností jsou měřena prostřednictvím K-faktorů K-CMH, K-COH, K-ASA a K-AUM. Riziko vyplývající z držení klientských prostředků je řízeno prostřednictvím vedení peněžních účtů ve zvláštním režimu u renomovaných bank. Peněžní prostředky na těchto účtech jsou odděleny od peněžních prostředků společnosti. Společnost dále stanovuje kapitálový požadavek v souvislosti s objemem přijatých a předaných anebo provedených pokynů zákazníka. Riziko vyplývající z těchto služeb má charakter spíše operačního rizika a společnost ho řídí nastavením řídícího a kontrolního systému a kvalitní IT podporou. Riziko vyplávající pro zákazníka z vedení zaknihované evidence cenných papírů společností je rovněž součástí rizika operačního a společnost jej řídí shodně jako v předchozím případu. Obdobné platí i pro riziko vyplývající z poskytování služby obhospodařování individuálních portfolií zákazníků a poskytování investičního poradenství. RIziko pro zákazníka je měřeno objemem takto spravovaných aktiv. Společnost jej řídí nastavením investičních limitů, které jsou výsledkem vyhodnocení vhodnosti dané investiční strategie každého jednotlivého zákazníka. Riziko pro trh Kapitálový požadavek rizika pro trh je ve společnosti Cyrrus riziko v obchodním portfoliu měřeno parametrem K-NPR (kapitálový požadavek pro „positions risk“), vztahuje se na všechny pozice v obchodním portfoliu – zejména na pozice v dluhových nástrojích, kapitálových nástrojích, nástrojích kolektivního investování a cizích měnách. K-NPR společnost Cyrrus určuje dle standardizovaného přístupu popsaného v původní regulaci CRR v kapitolách 2, 3 a 4. Jedná se zejména o kapitálové požadavky k obecnému a specifické akciovému riziko, obecnému a specifickému úrokovému riziko a měnovému riziku. Riziko pro podnik Kapitálový požadavek rizika pro podnik se skládá z rizika selhání protistran obchodů (měřeno K-faktorem K-TDC), rizika koncentrace u velkých expozic (měřeno K-faktorem K-CON) a operační riziko související s objemem denního obchodováním na vlastní knihu společnosti (měřeno K-faktorem K-DTF).
B13: 2 | C13: Cíle a zásady řízení rizik pro samostatnou kategorii rizik v části čtvrté IFR "Riziko koncentrace", včetně shrnutí strategií a procesů pro řízení těchto rizik | D13: Společnost obchoduje na vlastní účet, resp. drží investiční nástroje v obchodním portfoliu.Riziko koncetrace je řízeno prostřednictvím pravidelného hodnocení bank, emitentů a protistran.
B14: 3 | C14: Cíle a zásady řízení rizik pro samostatnou kategorii rizik v části páté IFR "Likvidita", včetně shrnutí strategií a procesů pro řízení těchto rizik | D14: Společnost řídí likviditu zejména ohledně svých peněžních závazků vyplývajících ze své provozní a obchodní činnosti a případně nakládání s vlastním majetkem. Likvidita je měřena, sledována a kontrolována v každé z hlavních měn na denní bázi.
B16: (*) se zaměřením na riziko pro zákazníka, pro trh a pro podnik

Sheet IF G1
B2: =+Přehled!B2 -> Cyrrus, a.s. | D2: informace na individuálním základě
B4: IF G1: Funkce zastávané v orgánech jiných právnických osob členy vedoucího orgánu OCP
B5: Vazba na legislativu: čl. 48 písm. a) nařízení Evropského parlamentu a Rady (EU) č. 2019/2033 (IFR).
B6: dynamická tabulka - počet řádků se přizpůsobí podle počtu členů vedoucího orgánu OCP
B7: Informace uveřejní OCP třídy 2.
B8: Informace platné k datu: | D8: ='IF RM1'!D7 -> 44926
C12: Funkce zastávané v orgánech jiných právnických osob jednotlivými členy vedoucího orgánu OCP (*): | D12: Počet funkcí
C13: Člen vedoucího orgánu - titul, jméno, příjmení, funkce
B14: 1 | C14: Ing. Jiří Loubal, MBA | D14: 9
B15: 2 | C15: Kamil Kricner | D15: 2
B16: 3 | C16: Ing. Tomáš Menčík | D16: 4
B17: 4 | C17: Ing. Luboš Seif | D17: 3
B18: 5 | C18: Mgr. Et Mgr. Bc. Jiří Grummich | D18: 5
B19: 6 | C19: Ing. Marek Hatlapatka | D19: 3
B20: 7 | C20: Ing. Jiří Šimara | D20: 1
B21: 8 | C21: Mgr. Michael Milat | D21: 1
B29: (*) Informace o členech představenstva i dozorčí rady OCP, případně o všech členech správní rady v monistickém systému vnitřní struktury OCP. Chief executive officer (CEO) je vždy považován za člena vedoucího orgánu, i v případě že není členem představenstva nebo jednatelem.

Sheet IF G2
B2: =+Přehled!B2 -> Cyrrus, a.s. | D2: informace na individuálním základě
B4: IF G2: Politika různorodosti a zřízení výboru pro rizika
B5: Vazba na legislativu: čl. 48 písm. b) a c) nařízení Evropského parlamentu a Rady (EU) č. 2019/2033 (IFR).
B6: Informace uveřejní OCP třídy 2.
B7: Informace platné k datu: | D7: ='IF RM1'!D7 -> 44926
D9: a | E9: b
D10: Volný text | E10: Vazba na legislativu
C11: Politika různorodosti s ohledem na výběr členů vedoucího orgánu: | E11: čl. 48 písm. b) nařízení EP a Rady (EU) č. 2019/2033 (IFR)
B12: 1 | C12: Politika různorodosti s ohledem na výběr členů vedoucího orgánu, její cíle a jakékoli relevantní cíle stanovené v této politice a rozsah, v jakém bylo těchto cílů dosaženo (*) | D12: Společnost při obsazování vedoucích pozic na všech úrovních řízení uplatňuje politiku rozmanitosti a antidiskriminační politiku s cílem dosáhnout různorodých názorů a zkušeností s ohledem na gender, věk,rasu, národnost, etnikum, náboženství, sexuální orientaci, sociální původ a zdravotní stav. Společnost politiku různorodosti uplatňuje především při odpovědném náboru pracovníků, řízení jejich talentů, integraci a kariérní postup, rozvoj a mentoring stávajících pracovníků a podporu life-balance principů : rovnováha pracovního a soukromého života pracovníků. Cílem politiky rozmanitosti a antidiskriminační politiky je dosažení vyváženého a různorodého složení vedení Společnosti na všech úrovních a další kultivace pracovního prostředí podporujícího různorodost názorů a zkušeností. Mezi nástroje politiky různorodosti a antidiskriminační politiky patří mimo jiné podpora tréninkových a školících programů, zvyšování povědomí o stereotypech a wisteblowing. Principy odměňování jsou pravidelně revidovány a politika rozmanitosti a antidiskriminační politika je při tomto procesu aktivně realizována.
C13: Výbor pro rizika | E13: čl. 48 písm. c) nařízení EP a Rady (EU) č. 2019/2033 (IFR)
B14: 2 | C14: Byl zřízen výbor pro rizika - ano/ne (komentář proč ne (**)) | D14: Ano
B15: 3 | C15: Počet členů výboru pro rizika | D15: 8
B16: 4 | C16: Počet zasedání výboru pro rizika za rok | D16: 4
B18: (*) Politika různorodosti s ohledem na výběr členů vedoucího orgánu by měla být popsána včetně záměrů, které při výběru členů vedoucího orgánu sleduje, popisu relevantních cílů k dosažení těchto záměrů obsažených v politice různorodosti a shrnutí, v jakém rozsahu bylo těchto cílů dosaženo. Povinné pole, nelze nechat prázdné.
B19: (**) Pokud nebyl zřízen výbor pro rizika, je nutné tuto skutečnost také uvést.

Sheet EU I CC1.01
B2: =+Přehled!B2 -> Cyrrus, a.s. | E2: informace na individuálním základě
B4: EU I CC1.01 – Složení regulatorního kapitálu
B5: Vazba na legislativu: čl. 49 odst. 1 písm. c) nařízení EP a Rady (EU) č. 2019/2033 (IFR) a přílohy VI a VII prováděcího nařízení Komise (EU) 2021/2284 (ITS k výkaznictví a uveřejňování investičními podniky).
B6: Informace uveřejní OCP třídy 2.
B7: Informace platné k datu: | E7: ='IF RM1'!D7 -> 44926
D9: v jednotkách Kč
D10: a) | E10: b)
D11: Výše (*) | E11: Zdroj založený na referenčních číslech/písmenech rozvahy v auditované účetní závěrce
B12: Kmenový kapitál tier 1: nástroje a rezervy (**)
B13: 1 | C13: KAPITÁL | D13: 1.6292007e+08
B14: 2 | C14: KAPITÁL TIER 1 | D14: 1.6292007e+08
B15: 3 | C15: KMENOVÝ KAPITÁL TIER 1 | D15: 1.6292007e+08
B16: 4 | C16: Zcela splacené kapitálové nástroje | D16: 100020000 | E16: VK_1
B17: 5 | C17: Emisní ážio | D17: 171659.98 | E17: VK_2
B18: 6 | C18: Nerozdělený zisk | D18: 42001889 | E18: VK_5
B19: 7 | C19: Kumulovaný ostatní úplný výsledek hospodaření
B20: 8 | C20: Ostatní fondy | D20: 3894388.6 | E20: VK_3
B21: 9 | C21: Menšinový podíl uznaný v kapitálu CET1
B22: 10 | C22: Úpravy kmenového kapitálu tier 1 v důsledku obezřetnostních filtrů | D22: -91847.873
B23: 11 | C23: Ostatní fondy | D23: 17000000 | E23: VK_4
B24: 12 | C24: (–) ODPOČTY OD KMENOVÉHO KAPITÁLU TIER 1 CELKEM | D24: -76024
B25: 13 | C25: (–) Vlastní nástroje zahrnované do kmenového kapitálu tier 1
B26: 14 | C26: (–) Přímé kapitálové investice do nástrojů zahrnovaných do kmenového kapitálu tier 1
B27: 15 | C27: (–) Nepřímé kapitálové investice do nástrojů zahrnovaných do kmenového kapitálu tier 1
B28: 16 | C28: (–) Syntetické kapitálové investice do nástrojů zahrnovaných do kmenového kapitálu tier 1
B29: 17 | C29: (–) Ztráty běžného účetního roku
B30: 18 | C30: (–) Goodwill
B31: 19 | C31: (–) Jiná nehmotná aktiva | D31: -76024
B32: 20 | C32: (–) Odložené daňové pohledávky, které jsou závislé na budoucím zisku a nevyplývají z přechodných rozdílů, po zohlednění souvisejících daňových závazků
B33: 21 | C33: (–) Kvalifikovaná účast mimo finanční sektor přesahující 15 % kapitálu
B34: 22 | C34: (–) Celkové kvalifikované účasti v podnicích, které nejsou subjekty finančního sektoru, přesahující 60 % kapitálu
B35: 23 | C35: (–) Nástroje zahrnované do kmenového kapitálu tier 1 subjektů finančního sektoru, v nichž instituce nemá významnou investici
B36: 24 | C36: (–) Nástroje zahrnované do kmenového kapitálu tier 1 subjektů finančního sektoru, v nichž má instituce významnou investici
B37: 25 | C37: (–) Aktiva penzijního fondu definovaných požitků
B38: 26 | C38: (–) Ostatní odpočty
B39: 27 | C39: KMENOVÝ KAPITÁL TIER 1: Ostatní kapitálové položky, odpočty od kapitálu a úpravy kapitálu
B40: 28 | C40: VEDLEJŠÍ KAPITÁL TIER 1
B41: 29 | C41: Plně uhrazené přímo vydané kapitálové nástroje
B42: 30 | C42: Emisní ážio
B43: 31 | C43: (–) ODPOČTY OD VEDLEJŠÍHO KAPITÁLU TIER 1 CELKEM
...

Sheet EU I CC2
B2: =+Přehled!B2 -> Cyrrus, a.s. | F2: informace na individuálním základě
B4: EU I CC2: Kapitál: Sesouhlasení regulatorního kapitálu s rozvahou v auditované účetní závěrce
B5: Vazba na legislativu: čl. 49 odst. 1 písm. a) nařízení EP a Rady (EU) č. 2019/2033 (IFR) a přílohy VI a VII prováděcího nařízení Komise (EU) 2021/2284 (ITS k výkaznictví a uveřejňování investičními podniky).
B6: Informace uveřejní OCP třídy 2.
B7: Flexibilní/dynamická šablona (*)
B8: Pro účely uveřejnění informací na individuálním základě se vyplní jen sloupce a, c, sloupec b se ponechá prázdný.
B9: Informace platné k datu: | F9: ='IF RM1'!D7 -> 44926
E11: v jednotkách Kč
D12: a | E12: b | F12: c
D13: Rozvaha dle zveřejněné/ auditované účetní závěrky | E13: Podle regulatorní konsolidace | F13: Křížový odkaz na EU IF CC1 (**)
D14: Ke konci období | E14: Ke konci období
B15: Aktiva – rozdělení podle kategorií aktiv v rozvaze ve zveřejněné/auditované účetní závěrce
B16: 1 | C16: Pokladní hotovost | D16: 98055
B17: 2 | C17: Pohledávky za bankami, za družstevními záložnami | D17: 2171724593
B18: 3 | C18: Pohledávky za nebankovními subjekty | D18: 13782168
B19: 4 | C19: Dluhové cenné papíry | D19: 19513719
B20: 5 | C20: Akcie,podílové listy a ostatní podíly | D20: 51756522
B21: 6 | C21: Účasti s rozhodujícím vlivem | D21: 17331483
B22: 7 | C22: Dlouhodobý nehmotný majetek | D22: 76024
B23: 8 | C23: Dlouhodobý hmotný majetek | D23: 105008
B24: 9 | C24: Ostatní aktiva | D24: 131497193
B25: 10 | C25: Náklady a příjmy příštích období | D25: 1949549
B27: xxx | C27: Aktiva celkem | D27: 2407834314
B28: Závazky – rozdělení podle kategorií závazků v rozvaze ve zveřejněné/auditované účetní závěrce
B29: 1 | C29: Závazky vůči nebankovním subjektům | D29: 2170941348
B30: 2 | C30: Závazky z dluhových cenných papírů | D30: 511441
B31: 3 | C31: Ostatní pasiva | D31: 44240901
B32: 4 | C32: Výnosy a výdaje příštích období | D32: 422549
B33: 5 | C33: Rezervy | D33: 3894389
B37: xxx | C37: Závazky celkem | D37: =SUM(D29:D36) -> 2.2200106e+09
B38: Vlastní kapitál
B39: 1 | C39: Základní kapitál | D39: 100020000
B40: 2 | C40: Emisní ážio | D40: 171659.98
B41: 3 | C41: Rezervní fondy a ostatní fondy ze zisku | D41: 3894388.6
B42: 4 | C42: Kapitálové fondy | D42: 17000000
B43: 5 | C43: Nerozdělený zisk nebo neuhrazená ztráta z předchozích období | D43: 57654798
B44: 6 | C44: Zisk nebo ztráta za účetní období | D44: 9082839
B46: xxx | C46: Vlastní kapitál celkem | D46: =SUM(D39:D45) -> 1.8782369e+08
B48: (*) viz příloha VII (Pokyny k šablonám), bod 9 ITS k výkaznictví a uveřejňování investičními podniky: Řádky šablony jsou flexibilní a investiční podniky je vyplní v souladu se svou účetní závěrkou. Položky kapitálu v auditované účetní závěrce zahrnují veškeré položky, které jsou složkami regulatorního kapitálu nebo které jsou odečteny od tohoto kapitálu, včetně vlastního kapitálu, závazků, jako jsou dluhy, nebo jiných rozvahových položek, které ovlivňují regulatorní kapitál, jako jsou nehmotná aktiva, goodwill a odložené daňové pohledávky. Investiční podniky podle potřeby rozšíří položky kapitálu v rozvaze, aby zajistily, že všechny složky obsažené v šabloně pro zveřejňování informací o složení kapitálu (šablona EU I CC1) budou uvedeny zvlášť. Investiční podniky rozšíří prvky rozvahy pouze na takovou úroveň členění, která je nezbytná k odvození složek požadovaných šablonou EU I CC1. Zpřístupnění informací musí být přiměřené složitosti rozvahy investičního podniku.
B50: (**) Odkaz ve sloupci c) šablony EU I CC2 bude propojen s odkazem uvedeným ve sloupci b) šablony EU I CC1.01 - viz příloha VII (Pokyny k šablonám), bod 10 prováděcího nařízení Komise (EU) 2021/2284 - ITS k výkaznictví a uveřejňování investičními podniky.

Sheet EU I CCA
B2: =+Přehled!B2 -> Cyrrus, a.s. | D2: informace na individuálním základě
B4: EU I CCA: Kapitál: Hlavní rysy vlastních nástrojů vydaných investičním podnikem
B5: Vazba na legislativu: čl. 49 odst. 1 písm. b) nařízení Evropského parlamentu a Rady (EU) č. 2019/2033 (IFR) a přílohy VI a VII prováděcího nařízení Komise (EU) 2021/2284 (ITS k výkaznictví a uveřejňování investičními podniky).
B6: Informace uveřejní OCP třídy 2.
B7: Informace platné k datu: | D7: ='IF RM1'!D7 -> 44926
D9: a | E9: b | F9: c
D10: Nástroj kmenového kapitálu tier 1 (*) | E10: Nástroj vedlejšího kapitálu tier 1 (*) | F10: Ostatní nástroje (**)
C11: Položka (1) | D11: Volný text / hodnota | E11: Volný text / hodnota | F11: Volný text / hodnota
B12: 1 | C12: Emitent | D12: Cyrrus, a.s.
B13: 2 | C13: Specifický identifikační kód (např. CUSIP, ISIN nebo Bloomberg v případě soukromé investice) | D13: nebyl přidělen
B14: 3 | C14: Veřejná nebo soukromá investice | D14: soukromá
B15: 4 | C15: Právní předpisy, jimiž se nástroj řídí | D15: Zákon č. 90/2012 Sb., o obchodních korporacích
B16: 5 | C16: Typ nástroje (typy upřesní každá jurisdikce) (*) (**) | D16: kmenové akcie
B17: 6 | C17: Objem uznaný v regulatorním kapitálu (v milionech, k poslednímu datu vykazování) | D17: 100,020 mil. Kč
B18: 7 | C18: Nominální hodnota nástroje | D18: 100,020 mil. Kč
B19: 8 | C19: Emisní cena | D19: 100,020 mil. Kč
B20: 9 | C20: Cena při splacení | D20: 100,020 mil. Kč
B21: 10 | C21: Účetní klasifikace | D21: vlastní kapitál akcionáře
B22: 11 | C22: Původní datum emise | D22: 37503
B23: 12 | C23: Věčný nebo datovaný | D23: věčný
B24: 13 | C24: Původní datum splatnosti | D24: žádná splatnost
B25: 14 | C25: Vypovězení emitentem s výhradou předchozího schválení orgány dohledu | D25: ne
B26: 15 | C26: Datum možného vypovězení, data případného vypovězení a hodnota při splacení | D26: nepoužije se
B27: 16 | C27: Data následného vypovězení, je-li to relevantní | D27: nepoužije se
C28: Kupony/dividendy
B29: 17 | C29: Pevná nebo pohyblivá dividenda/kupon | D29: pohyblivá
B30: 18 | C30: Kuponová sazba a případný související index | D30: nepoužije se
B31: 19 | C31: Existence systému pozastavení výplaty dividend | D31: ne
B32: 20 | C32: Zcela podle uvážení, částečně podle uvážení nebo povinné (pokud jde o časový harmonogram) | D32: zcela podle uvážení
B33: 21 | C33: Zcela podle uvážení, částečně podle uvážení nebo povinné (pokud jde o objem) | D33: zcela podle uvážení
B34: 22 | C34: Existence navýšení či jiné pobídky ke splacení nástroje | D34: ne
B35: 23 | C35: Nekumulativní nebo kumulativní | D35: nekumulativní
B36: 24 | C36: Konvertibilní nebo nekonvertibilní | D36: nekonvertibilní
B37: 25 | C37: V případě konvertibilního nástroje, rozhodná událost pro konverzi | D37: nepoužije se
B38: 26 | C38: V případě konvertibilního nástroje, konvertibilní zcela nebo částečně | D38: nepoužije se
B39: 27 | C39: V případě konvertibilního nástroje, konverzní faktor | D39: nepoužije se
B40: 28 | C40: V případě konvertibilního nástroje, povinná nebo nepovinná konverze | D40: nepoužije se
... B46: 34 | C46: V případě snížení účetní hodnoty, trvalé nebo dočasné snížení | D46: trvalé i dočastné
B47: 35 | C47: V případě dočasného snížení účetní hodnoty, popis mechanismu zvýšení účetní hodnoty
B48: 36 | C48: Rysy nesplňující požadavky | D48: ne
...

Sheet IF KP1
B2: =+Přehled!B2 -> Cyrrus, a.s. | D2: informace na individuálním základě
B4: IF KP1: Kapitálové požadavky - kvantitativní informace
B5: Vazba na legislativu: čl. 50 písm. c) a d) nařízení Evropského parlamentu a Rady (EU) č. 2019/2033 (IFR).
B6: Informace uveřejní OCP třídy 2.
B7: Informace platné k datu: | D7: ='IF RM1'!D7 -> 44926
D10: v jednotkách Kč
C11: Položka | D11: Částka (*)
B12: 1 | C12: Trvalý minimální kapitálový požadavek | D12: 18086250
B13: 2 | C13: Požadavek dle fixních režijních nákladů | D13: 50334372
B14: 3 | C14: Celkový požadavek dle K-faktorů | D14: 38984252
C15: Požadavek dle K-faktorů (v rozpadu ve vztahu k rizikům)
B16: 4 | C16: součet K-faktorů ve vztahu k riziku pro zákazníka | D16: 16357764
B17: 5 | C17: součet K-faktorů ve vztahu k riziku pro trh | D17: 13182651
B18: 6 | C18: součet K-faktorů ve vztahu k riziku pro podnik | D18: 9443836.8
B20: (*) Údaje v této šabloně musí odpovídat hodnotám předloženým v obezřetnostním výkazu if_class2_ind po auditu.

Sheet IF KP2
B2: =+Přehled!B2 -> Cyrrus, a.s. | D2: informace na individuálním základě
B4: IF KP2: Kapitálové požadavky - hodnocení přiměřenosti vnitřně stanoveného kapitálu
B5: Vazba na legislativu: čl. 50 písm. a) a b) nařízení Evropského parlamentu a Rady (EU) č. 2019/2033 (IFR).
B6: Informace uveřejní OCP třídy 2.
B7: Informace platné k datu: | D7: ='IF RM1'!D7 -> 44926
C10: a | D10: b
C11: Shrnutí přístupu OCP k hodnocení přiměřenosti jeho vnitřně stanoveného kapitálu vzhledem k současným a budoucím činnostem | D11: Vazba na legislativu
C12: volný text
B13: 1. Shrnutí přístupu | C13: Vnitřně stanovená kapitálová přiměřenost vychází z předpisu IFR a navíc je rozšířená o kapitálový požadavek na operační a ICT rizika. Společnost udržuje svůj kapitál nad touto navýšenou hodnotou, tj. dle požadavku IFR navýšený o požadavek na krytí operačních a ICT rizik. | D13: Čl. 50 písm. a) nařízení EP a Rady (EU) č. 20192/033 (IFR).
B16: Tato tabulka se uveřejňuje pouze na vyžádání ČNB. | C16: a | D16: b
C17: Výsledek interního postupu OCP pro hodnocení kapitálové přiměřenosti včetně složení vedlejšího kapitálu na základě procesu dohledu podle čl. 39 odst. 2 písm. a) směrnice (EU) 2019/2034 (směrnice IFD) | D17: Vazba na legislativu
C18: volný text
B19: 1. Výsledek interního postupu pro hodnocení kapitálové přiměřenosti | D19: Čl. 50 písm. b) nařízení EP a Rady (EU) č. 20192/033 (IFR).
B20: 2. Složení dodatečně stanoveného kapitálu | D20: Čl. 50 písm. b) nařízení EP a Rady (EU) č. 20192/033 (IFR).

Sheet IF O1
B2: =+Přehled!B2 -> Cyrrus, a.s. | E2: informace na individuálním základě
B4: IF O1: Informace o odměňování - část první
B5: Vazba na legislativu: čl. 51 písm. a) a b) nařízení Evropského parlamentu a Rady (EU) č. 2019/2033 (IFR).
B6: Informace uveřejní OCP třídy 2.
B7: Informace platné k datu: | E7: ='IF RM1'!D7 -> 44926
D9: a | E9: b
D10: Volný text nebo hodnoty | E10: čl. 51 nařízení EP a Rady (EU) č. 2019/2033 (IFR).
B11: 1 | C11: Nejdůležitější charakteristiky systému odměňování | D11: Odměňování se řídí vnitřními předpisy společnosti a kariérním řádem pro obchod oddělení , | E11: písm. a)
B12: 2 | C12: Kritéria pro přiznání pohyblivé složky odměny | D12: Pohyblivá složka se nastavuje u každé pracovní pozice zvlášť - měsíčně, kvartálně, ročně. Jedná se o osobní hodnocení, dle KPI
B13: 3 | C13: Zásady pro výplatu odměn prostřednictvím nástrojů | D13: Odměny prostřednictvím nástrojů nejsou vypláceny.
B14: 4 | C14: Zásady pro oddálení splatnosti odměny (deferral) | D14: Odměny s odloženou splatností nejsou vypláceny.
B15: 5 | C15: Kritéria pro převedení odměny (vesting) | D15: Odměny nejsou převáděny.
B16: 6 | C16: Způsob zajištění toho, že zásady odměňování jsou genderově neutrální | D16: platové ohodnocení je stanoveno dle pracovní pozice a zodpovědnosti. | E16: návětí
B17: 7 | C17: Rozdíly v odměňování žen a mužů (*) v % | D17: 28,51
B18: 8 | C18: Nejvyšší možný poměr mezi pohyblivou a pevnou složkou celkové odměny stanovený v zásadách odměňování pro jednotlivé pracovníky nebo skupiny pracovníků (týká se pouze vybraných pracovníků (**) | D18: není stanoveno | E18: písm. b)
B20: (*) Rozdíl je vypočten na základě průměrného hrubého hodinové výdělku (včetně všech přiznaných odměn a benefitů) všech mužů a všech žen na všech pozicích, vyjádřený jako procento z průměrného hrubého hodinového výdělku mužů. Rozdíl v odměňování mužů a žen = (průměrný hrubý hodinový výdělek mužů - průměrný hrubý hodinový výdělek žen)*100/průměrný hrubý hodinový výdělek mužů viz definice v EBA/GL/2021/13 - Obecné pokyny k řádným zásadám odměňování podle směrnice (EU) 2019/2034
B21: (**) Pracovníci, jejichž pracovní činnosti mají podstatný dopad na rizikový profil OCP nebo aktiv, která spravuje, na základě určení dle čl. 30 odst. 1 a 4 směrnice (EU) 2019/2034 (IFD) a nařízení Komise v přesené pravomoci (EU) 2021/2154.
B22: Je potřeba vyplnit všechna pole šablony. Pokud příslušné zásady či kritéria OCP nestanovil, je třeba tuto informaci v příslušném poli uvést (např. "není stanoveno").

Sheet IF O2
B2: =+Přehled!B2 -> Cyrrus, a.s. | H2: informace na individuálním základě
B5: IF O2: Informace o odměňování - část druhá
B6: Vazba na legislativu: čl. 51 písm. c) nařízení Evropského parlamentu a Rady (EU) č. 2019/2033 (IFR).
B7: Informace uveřejní OCP třídy 2.
B8: Informace platné k datu: | H8: ='IF RM1'!D7 -> 44926
B9: Rok plnění, za který jsou odměny přiznány (rok N) | H9: rrrr
B11: Položka | C11: Kvantitativní informace o vybraných pracovnících1 | D11: Vedoucí orgán v kontrolní funkci2 | E11: Vedoucí orgán v řídicí funkci3 | F11: Vrcholné řízení4 | G11: Ostatní vybraní pracovníci | H11: čl. 51 písm. c) nařízení EP a Rady (EU) č. 2019/2033 (IFR)
B12: 1 | C12: Pracovníci (počet)5 | D12: 3 | E12: 5 | F12: 5 | H12: body i) a ii)
B13: 2 | C13: Celkový počet vybraných pracovníků vyjádřený v ekvivalentech plného pracovního úvazku | D13: 3 | E13: 5 | F13: 5
B14: 3 | C14: Pevné složky odměn celkem (v CZK) v roce N | D14: 1509986 | E14: 4225000 | F14: 3503470
B15: 4 | C15: z toho: hotovost | D15: 1509986 | E15: 4225000 | F15: 3503470
B16: 5 | C16: z toho: akcie nebo obdobné vlastnické podíly
B17: 6 | C17: z toho: nástroje spojené s akciemi nebo obdobné nepeněžní nástroje
B18: 7 | C18: z toho: další nástroje vedlejšího kapitálu tier 1 nebo nástrojů kapitálu tier 2 nebo jiných nástrojů, které lze plně přeměnit na nástroje zahrnované do kmenového kapitálu tier 1 nebo odepsat, a které odpovídajícím způsobem odráží úvěrovou kvalitu OCP při jeho trvání
B19: 8 | C19: z toho: nepeněžní nástroje, které odrážejí strukturu nástrojů spravovaných portfolií
B20: 9 | C20: z toho: schválené alternativní nástroje
B21: 10 | C21: z toho: jiné formy
B22: 11 | C22: Pohyblivé složky odměn celkem (v CZK) v roce N
B23: 12 | C23: z toho: hotovost
B24: 13 | C24: z toho: s oddálenou splatností
B25: 14 | C25: z toho: akcie nebo obdobné vlastnické podíly
B26: 15 | C26: z toho: s oddálenou splatností
B27: 16 | C27: z toho: nástroje spojené s akciemi nebo obdobné nepeněžní nástroje
... B36: 25 | C36: z toho: s oddálenou splatností
B37: Další informace o celkové výši pohyblivých složek odměny (veškeré níže uvedené částky musejí být uvedené výše v rámci celkové pohyblivé složky odměňování)
B38: 26 | C38: Celková výše dosud nevyplacených pohyblivých složek odměn s oddálenou splatností přiznaných v předchozích období plnění a ne v roce N. | H38: bod iii)
B39: 27 | C39: z toho: budou vyplaceny v roce N
B40: 28 | C40: z toho: budou vyplaceny v následujících letech
B41: 29 | C41: Celková výše snížení pohyblivé složky odměn s oddálenou splatností na základě následné úpravy, přičemž k snížení došlo v roce N s ohledem na pohyblivou složku s oddálenou spatností přiznanou před rokem N, která měla být vyplacena v roce N | H41: bod iv)
B42: 30 | C42: Celková zaručená pohyblivá složka odměny v roce N | H42: bod v)
B43: 31 | C43: Zaručená pohyblivá složka odměny v roce N - celkový počet příjemců
B44: 32 | C44: Celková výše odstupného přiznaného v letech před rokem N a vyplaceného v roce N | H44: bod vi)
B45: 33 | C45: Celková výše odstupného přiznaného v roce N | H45: bod vii)
B46: 34 | C46: z toho: odstupné s oddálenou splatností přiznané v roce N
B47: 35 | C47: Odstupné přiznané v roce N - celkový počet příjemců
B48: 36 | C48: Nejvyšší výše odstupného přiznaného v roce N jednotlivci
B50: 1 Pracovníci, jejichž pracovní činnosti mají podstatný dopad na rizikový profil OCP nebo aktiv, která spravují, na základě určení dle čl. 30 odst. 1 a 4 směrnice (EU) 2019/2034 a nařízení Komise v přesené pravomoci (EU) 2021/2154.
B51: 2 Tj. členové vedoucího orgánu v kontrolní funkci na nejvyšší úrovni konsolidace. Členy vedoucího orgánu v kontrolní funkci v ovládaných osobách je třeba zařadit mezi "ostatní vybrané pracovníky".
B52: 3 Tj. členové vedoucího orgánu v řídicí funkci na nejvyšší úrovni konsolidace. Členy vedoucího orgánu v řídicí funkci v ovládaných osobách je třeba zařadit mezi "vrcholné řízení".
B53: 4 Pracovníci definováni v čl. 3 bod 27 směrnice (EU) 2019/2034.
...

Sheet IF IP1
B2: =+Přehled!B2 -> Cyrrus, a.s. | F2: informace na individuálním základě
B4: IF IP1 - Podíl hlasovacích práv
B5: Vazba na legislativu: čl. 52 odst. 1 písm. a) nařízení Evropského parlamentu a Rady (EU) č. 2019/2033 (IFR) a Nařízení Komise v přenesené pravomoci (EU) 2022/1159 - regulační technické normy pro veřejné zpřístupňování investiční politiky investičními podniky (*).
B6: Informace uveřejní OCP třídy 2, jejichž hodnota rozvahových a podrozvahových aktiv v průběhu 4-letého období bezprostředně předcházejícího danému účetnímu období je větší než 100 mil EUR. Pokud OCP nesplňuje prahy významnosti, je třeba tuto informaci v příslušných šablonách uvést (např. do prvního pole každé tabulky na každém listu uvést „není relevantní“).
B7: dynamická tabulka - počet řádků se přizpůsobí podle počtu uveřejňovaných společností
B8: Komentář k podmínkám uveřejňování informací o investiční politice je uveden pod tabulkou.
B9: Informace platné k datu: | F9: ='IF RM1'!D7 -> 44926
B12: Země | C12: Hospodářské odvětví | D12: Název společnosti | E12: Identifikační kód společnosti (LEI) | F12: Podíl hlasovacích práv spojených s akciemi, která investiční podnik přímo nebo nepřímo drží, jak je stanoveno v čl. 52 odst. 2
B13: a | C13: b | D13: c | E13: d | F13: e
B19: (*) Nařízení Komise v přenesené pravomoci (EU) 2022/1159 ze dne 11. března 2022, kterým se doplňuje nařízení Evropského parlamentu a Rady (EU) 2019/2033, pokud jde o regulační technické normy pro veřejné zpřístupňování investiční politiky investičními podniky
B21: Komentář k uveřejňování investiční politiky:
B22: Prahy významnosti pro aplikaci požadavku na zveřejnění:
C23: 1) rozvahová + podrozvahová aktiva příslušného investičního podniku (OCP) jsou vyšší než 100 milionů EUR (průměr za čtyřleté období bezprostředně předcházející danému finančnímu roku)
C24: 2) zveřejní se pouze společnosti, jejichž akcie jsou přijaty k obchodování na regulovaném trhu a investiční podnik drží hlasovací práva přesahující 5% všech hlasovacích práv vydaných společností.
B25: Ze zveřejnění jsou vyloučeny akcie ve správě investičního podniku, u kterých si akcionáři ponechali hlasovací práva (na základě smluvního ujednání zakazujícího investičnímu podniku hlasovat jejich jménem).

Sheet IF IP2
B2: =+Přehled!B2 -> Cyrrus, a.s. | D2: informace na individuálním základě
B4: IF IP2 - Hlasování
B5: Vazba na legislativu: čl. 52 odst. 1 písm. b) nařízení Evropského parlamentu a Rady (EU) č. 2019/2033 (IFR) a Nařízení Komise v přenesené pravomoci (EU) 2022/1159 - regulační technické normy pro veřejné zpřístupňování investiční politiky investičními podniky (*).
B6: Informace uveřejní OCP třídy 2, jejichž hodnota rozvahových a podrozvahových aktiv v průběhu 4-letého období bezprostředně předcházejícího danému účetnímu období je větší než 100 mil EUR. Pokud OCP nesplňuje prahy významnosti, je třeba tuto informaci v příslušných šablonách uvést (např. do prvního pole každé tabulky na každém listu uvést „není relevantní“).
B7: Komentář k podmínkám uveřejňování informací o investiční politice je pod tabulkou.
B8: Informace platné k datu: | D8: ='IF RM1'!D7 -> 44926
B10: IF IP2.01 - Tabulka pro popis hlasování
B12: Řádek | C12: Položka | D12: Hodnota
B13: 1 | C13: Počet příslušných společností, na něž se vztahuje zpřístupňování informací
B14: 2 | C14: Počet valných hromad za uplynulý rok zahrnutých do zpřístupňování informací
B15: 3 | C15: Počet valných hromad za uplynulý rok zahrnutých do zpřístupňování informací, na nichž podnik hlasoval
B16: 4 | C16: Informuje investiční podnik společnost před konáním valné hromady o negativních hlasech? | D16: ano/ne
B17: 5 | C17: Podíl hlasování provedeného osobně, jež podnik použil
B18: 6 | C18: Podíl hlasování provedeného korespondenčně nebo elektronicky, jež podnik použil
B19: 7 | C19: Uplatňuje skupina investičních podniků na konsolidovaném základě politiku týkající se střetu zájmů mezi příslušnými subjekty ve skupině? | D19: ano/ne
B20: 8 | C20: Pokud ano, shrnutí této politiky
B24: IF IP2.02 - Šablona pro hlasování
B26: Řádek | C26: Položka | D26: Počet | E26: Procentní podíl
B27: 1 | C27: Usnesení valných hromad:
B28: 2 | C28: která podnik schválil
B29: 3 | C29: s nimiž podnik nesouhlasil
B30: 4 | C30: u nichž se podnik zdržel hlasování
B31: 5 | C31: Valné hromady, na nichž podnik nesouhlasil s alespoň jedním usnesením
B35: IF IP2.03 - Tabulka pro vysvětlení hlasování
B37: Řádek | C37: Položka | D37: Hodnota
B38: 1 | C38: Oddělení nebo role v investičním podniku, které se podílejí na rozhodování o hlasovací pozici
B39: 2 | C39: Popis postupu validace negativních hlasů
B40: 3 | C40: Počet ekvivalentů plného pracovního úvazku použitých při analýze usnesení a kontrole záznamů hlasování, s výjimkou externích zdrojů, jako jsou zmocněné poradenské podniky
B41: 4 | C41: Vysvětlení podstatných změn v míře schválení
B42: 5 | C42: Seznam veřejně dostupných dokumentů o investiční politice popisujících cíle investičního podniku
B43: 6 | C43: Osvědčení o investiční politice podniku, je-li relevantní
B47: IF IP2.04 - Šablona pro hlasování o usneseních podle témat
B49: Řádek | C49: Položka | D49: Pro | E49: Proti | F49: Zdržel se | G49: Celkem
B50: 1 | C50: Hlasování o usneseních v uplynulém roce podle témat:
B51: 2 | C51: Struktura správní rady
B52: 3 | C52: Odměňování vedoucích pracovníků
B53: 4 | C53: Auditoři
B54: 5 | C54: Životní prostředí, sociální oblast, etika
B55: 6 | C55: Kapitálové transakce
B56: 7 | C56: Externí usnesení
...

Sheet IF IP3
B2: =+Přehled!B2 -> Cyrrus, a.s. | F2: informace na individuálním základě
B4: IF IP3 - Zmocněné poradenské podniky
B5: Vazba na legislativu: čl. 52 odst. 1 písm. c) nařízení Evropského parlamentu a Rady (EU) č. 2019/2033 (IFR) a Nařízení Komise v přenesené pravomoci (EU) 2022/1159 - regulační technické normy pro veřejné zpřístupňování investiční politiky investičními podniky (*).
B6: Informace uveřejní OCP třídy 2, jejichž hodnota rozvahových a podrozvahových aktiv v průběhu 4-letého období bezprostředně předcházejícího danému účetnímu období je větší než 100 mil EUR. Pokud OCP nesplňuje prahy významnosti, je třeba tuto informaci v příslušných šablonách uvést (např. do prvního pole každé tabulky na každém listu uvést „není relevantní“).
B7: Komentář k podmínkám uveřejňování informací o investiční politice je uveden pod tabulkou.
B8: Informace platné k datu: | E8: ='IF RM1'!D7 -> 44926
B10: IF IP3.01 - Tabulka pro seznam zmocněných poradenských podniků
B12: Název zmocněného poradenského podniku | C12: Identifikační kód zmocněného poradenského podniku | D12: Druh smlouvy | E12: Investice spojené se zmocněným poradenským podnikem | F12: Témata usnesení, k nimž zmocněný podnik v uplynulém roce vydal doporučení týkající se hlasování
B13: a | C13: b | D13: c | E13: d | F13: e
B20: Podle potřeby vložte další řádky.
B23: IF IP3.02 - Tabulka pro propojení se zmocněnými poradenskými podniky
B25: Název zmocněného poradenského podniku | C25: Identifikační kód zmocněného poradenského podniku | D25: Příslušné podniky, s nimiž je zmocněný poradenský podnik propojen | E25: Druh propojení | F25: Politika týkající se střetů zájmů se zmocněným poradenským podnikem, je-li relevantní
B26: a | C26: b | D26: c | E26: d | F26: e
B34: (*) Nařízení Komise v přenesené pravomoci (EU) 2022/1159 ze dne 11. března 2022, kterým se doplňuje nařízení Evropského parlamentu a Rady (EU) 2019/2033, pokud jde o regulační technické normy pro veřejné zpřístupňování investiční politiky investičními podniky
B36: Komentář k uveřejňování investiční politiky:
B37: Prahy významnosti pro aplikaci požadavku na zveřejnění:
C38: 1) rozvahová + podrozvahová aktiva příslušného investičního podniku (OCP) jsou vyšší než 100 milionů EUR (průměr za čtyřleté období bezprostředně předcházející danému finančnímu roku)
C39: 2) zveřejní se pouze společnosti, jejichž akcie jsou přijaty k obchodování na regulovaném trhu a investiční podnik drží hlasovací práva přesahující 5% všech hlasovacích práv vydaných společností.
B40: Ze zveřejnění jsou vyloučeny akcie ve správě investičního podniku, u kterých si akcionáři ponechali hlasovací práva (na základě smluvního ujednání zakazujícího investičnímu podniku hlasovat jejich jménem).

Sheet IF IP4
B2: =+Přehled!B2 -> Cyrrus, a.s. | C2: informace na individuálním základě
B4: IF IP4: Tabulka pro pokyny k hlasování
B5: Vazba na legislativu: čl. 52 odst. 1 písm. d) nařízení Evropského parlamentu a Rady (EU) č. 2019/2033 (IFR) a Nařízení Komise v přenesené pravomoci (EU) 2022/1159 - regulační technické normy pro veřejné zpřístupňování investiční politiky investičními podniky. (*)
B6: Informace uveřejní OCP třídy 2, jejichž hodnota rozvahových a podrozvahových aktiv v průběhu 4-letého období bezprostředně předcházejícího danému účetnímu období je větší než 100 mil EUR. Pokud OCP nesplňuje prahy významnosti, je třeba tuto informaci v příslušných šablonách uvést (např. do prvního pole každé tabulky na každém listu uvést „není relevantní“).
B7: Informace platné k datu: | C7: ='IF RM1'!D7 -> 44926
B8: Komentář k podmínkám uveřejňování informací o investiční politice je uveden pod tabulkou.
B10: Pokyny k hlasování o společnostech, jejichž akcie jsou drženy v souladu s čl. 52 odst. 2: krátké obecné shrnutí a v případě potřeby odkazy na dokumenty, které nemají důvěrnou povahu
B11: a
B14: (*) Nařízení Komise v přenesené pravomoci (EU) 2022/1159 ze dne 11. března 2022, kterým se doplňuje nařízení Evropského parlamentu a Rady (EU) 2019/2033, pokud jde o regulační technické normy pro veřejné zpřístupňování investiční politiky investičními podniky.
B16: Komentář k uveřejňování investiční politiky:
B17: Prahy významnosti pro aplikaci požadavku na zveřejnění:
B18: 1) rozvahová + podrozvahová aktiva příslušného investičního podniku (OCP) jsou vyšší než 100 milionů EUR (průměr za čtyřleté období bezprostředně předcházející danému finančnímu roku)
B19: 2) zveřejní se pouze společnosti, jejichž akcie jsou přijaty k obchodování na regulovaném trhu a investiční podnik drží hlasovací práva přesahující 5% všech hlasovacích práv vydaných společností.
B20: Ze zveřejnění jsou vyloučeny akcie ve správě investičního podniku, u kterých si akcionáři ponechali hlasovací práva (na základě smluvního ujednání zakazujícího investičnímu podniku hlasovat jejich jménem).

Sheet IF ESG
B2: =Přehled!B2 -> Cyrrus, a.s. | D2: informace na individuálním základě
B4: IF ESG: Informace o environmentálních a sociálních rizicích a rizicích v oblasti správy a řízení (ESG)
B5: Vazba na legislativu: článek 53 nařízení Evropského parlamentu a Rady (EU) č. 2019/2033 (IFR).
B6: Informace uveřejní OCP třídy 2, jejichž hodnota rozvahových a podrozvahových aktiv v průběhu 4-letého období bezprostředně předcházejícího danému účetnímu období je větší než 100 mil EUR.
B7: Informace platné k datu: | D7: ='IF RM1'!D7 -> 44926
D10: a
D11: Volný text
B12: 1 | C12: Informace o environmentálních a sociálních rizicích a rizicích v oblasti správy a řízení (governance), včetně fyzických rizik a rizik přechodu na udržitelnější hospodářství, jak jsou vymezena ve zprávě uvedené v článku 35 směrnice (EU) 2019/2034 (*). Konkrétní definice jednotlivých ESG rizik podle zprávy EBA/REP/2021/18 jsou uvedeny v poznámce (**).
B15: (*) | C15: Zpráva uvedená v čl.35 směrnice (EU) 2019/2034 (IFD) je Zpráva EBA/REP/2021/18.
B17: (**) | C17: Ekologická rizika - rizika jakéhokoli negativního finančního dopadu na OCP vyplývajícího ze současných nebo budoucích dopadů faktorů v oblasti životního prostředí na jeho protistrany nebo investovaná aktiva.
C18: Rizika v oblasti řízení - rizika jakéhokoli negativního finančního dopadu na OCP vyplývajícího ze současných nebo budoucích dopadů promítnutí ekologických faktorů do oblasti správy a řízení.
C19: Fyzická rizika - rizika jakéhokoli negativního finančního dopadu na OCP vyplývajícího ze současných nebo budoucích dopadů fyzických vlivů ekologických faktorů na jeho protistrany nebo investovaná aktiva.
C20: Společenská rizika - rizika jakéhokoli negativního finančního dopadu na OCP vyplývajícího ze současných nebo budoucích dopadů sociálních a společenských faktorů (respektování lidských a pracovních práv) na jeho protistrany nebo investovaná aktiva.
C21: Rizika přechodu - rizika jakéhokoli negativního finančního dopadu na OCP, vyplývajícího ze současných nebo budoucích dopadů přechodu na environmentálně udržitelné hospodářství na jeho protistrany nebo investovaná aktiva.
