Workbook
Name Contract_type: '[1]Drop-down'!$E$2:$E$3
Name Themes: '[1]Drop-down'!$C$2:$C$8
Name Type_Link: '[1]Drop-down'!$F$2:$F$7
Name YesNo: '[1]Drop-down'!$D$2:$D$3

Sheet Přehled
B2: CYRRUS, a.s. | C2: (Název OCP přepište ve žlutém poli, tím se název propíše do všech šablon) | D2: informace na individuálním základě
B4: Šablony pro uveřejňování informací obchodníky s cennými papíry (pracovní pomůcka pro OCP třídy 2)
B5: Tyto šabony vyplní obchodníci s cennými papíry, kteří nesplňují podmínky čl. 12 odst. 1 IFR pro to, aby mohli být považováni za malé a nepropojené investiční podniky (OCP třídy 2)
B6: Uveřejňování informací podle části šesté nařízení Evropského parlamentu a Rady (EU) č. 2019/2033 (IFR) a podle Prováděcího nařízení Komise (EU) 2021/2284 ze dne 10. prosince 2021, kterým se stanoví prováděcí technické normy pro uplatňování nařízení Evropského parlamentu a Rady (EU) 2019/2033, pokud jde o podávání zpráv pro účely dohledu a zpřístupňování informací investičními podniky (ITS k výkaznictví a uveřejňování investičními podniky)
B8: Přehled
B10: Zkratka šablony/ tabulky | C10: Název | D10: Vazba na legislativu | E10: Povinná osoba vyplňuje: ANO/NE | F10: Poznámka
C11: Cíle a zásady řízení rizik
B12: IF RM1 | C12: Stručné prohlášení o riziku schválené vedoucím orgánem | D12: čl. 47 IFR | E12: ANO
B13: IF RM2 | C13: Cíle a zásady řízení rizik včetně strategie a procesů řízení rizik | D13: čl. 47 IFR | E13: ANO
C14: Správa a řízení
B15: IF G1 | C15: Funkce zastávané v orgánech jiných právnických osob členy vedoucího orgánu OCP | D15: čl. 48 písm. a) IFR | E15: ANO
B16: IF G2 | C16: Politika různorodosti a zřízení výboru pro rizika | D16: čl. 48 písm. b) a c) IFR | E16: ANO
C17: Zpřístupňování informací o kapitálu
B18: EU I CC1.01 | C18: Složení regulatorního kapitálu | D18: čl. 49(1)c) IFR a přílohy VI a VII ITS k výkaznictví a uveřejňování investičními podniky(*) | E18: ANO
B19: EU I CC2 | C19: Kapitál: Sesouhlasení regulatorního kapitálu s rozvahou v auditované účetní závěrce | D19: čl. 49(1)(a) IFR a přílohy VI a VII ITS k výkaznictví a uveřejňování investičními podniky(*) | E19: ANO
B20: EU I CCA | C20: Kapitál: Hlavní rysy vlastních nástrojů vydaných investičním podnikem | D20: čl. 49(1)(b) IFR a přílohy VI a VII ITS k výkaznictví a uveřejňování investičními podniky(*)
C21: Kapitálové požadavky
B22: IF KP1 | C22: Kapitálové požadavky - kvantitativní informace | D22: čl. 50 písm. c) a d) IFR | E22: ANO
B23: IF KP2 | C23: Kapitálové požadavky - hodnocení přiměřenosti vnitřně stanoveného kapitálu | D23: čl. 50 písm. a) a b) IFR | E23: ANO
C24: Odměňování
B25: IF O1 | C25: Informace o odměňování - část první | D25: čl. 51(a), (b) IFR
B26: IF O2 | C26: Informace o odměňování - část druhá | D26: čl. 51(c) IFR
C27: Uveřejňování investiční politiky | F27: Uveřejní pouze OCP, jejichž hodnota rozvahových a podrozvahových aktiv je větší než 100 mil EUR (v průměru za předchozí 4 roky)
B28: IF IP1 | C28: PROPORTION OF VOTING RIGHTS | D28: čl. 52(1)(a) IFR a RTS k uveřejňování investiční politiky(**) | F28: RTS k uveřejňování investiční politiky ještě nevyšlo v OJ - tabulky na základě návrhu RTS(**)
B29: IF IP2 | C29: VOTING BEHAVIOUR | D29: čl. 52(1)(b) IFR a RTS k uveřejňování investiční politiky(**)
B30: IF IP3 | C30: PROXY ADVISOR FIRMS | D30: čl. 52(1)(c) IFR a RTS k uveřejňování investiční politiky(**)
B31: IF IP4 | C31: VOTING GUIDELINES | D31: čl. 52(1)(d) IFR a RTS k uveřejňování investiční politiky(**)
B33: (*) Prováděcí nařízení Komise (EU) 2021/2284 ze dne 10. prosince 2021, kterým se stanoví prováděcí technické normy pro uplatňování nařízení Evropského parlamentu a Rady (EU) 2019/2033, pokud jde o podávání zpráv pro účely dohledu a zpřístupňování informací investičními podniky
B34: (**) Návrh Regulačního technického standardu (RTS) k uveřejňování informací o investiční politice investičních podniků, k jehož vypracování je zmocněna EBA podle čl. 52 odst. 3 IFR, která svou závěrečnou zprávu a návrh RTS o uveřejňování investiční politiky zveřejnila 19.10.2021 na svých webových stránkách. Link: https://www.eba.europa.eu/eba-publishes-final-draft-regulatory-technical-standards-disclosure-investment-policy-investment

Sheet IF RM1
B2: =+Přehled!B2 -> CYRRUS, a.s. | D2: informace na individuálním základě
B4: IF RM1: Stručné prohlášení o riziku schválené vedoucím orgánem
B5: Vazba na legislativu: článek 47 nařízení Evropského parlamentu a Rady (EU) č. 2019/2033 (IFR).
B6: Informace uveřejní OCP třídy 2.
B7: Informace platné k datu: | D7: 44561
D8: zde vyplněné datum se vyplní do ostatních listů Šablon
D10: a
D11: Volný text
B12: 1 | C12: Stručné prohlášení o riziku, schválené vedoucím orgánem investičního podniku, které výstižně popisuje celkový rizikový profil investičního podniku související se strategií podnikání. | D12: V oblasti řízení rizik společnost vychází z příslušných ustanovení zákona č. 256/2004 Sb., o podnikání na kapitálovém trhu, směrnici o nařízením o trzích finančních nástrojů (MIFID/MiFIR). Směrnicí evropského parlamentu a rady 2019/2034 (IFD) a nařízením Evropského parlamentu a rady 2019/2033 ( IFR). V rámci organizační struktury společnosti je činnost řízení rizik zajištěna risk manažerem, dále je zřízen Výbor pro řízení rizik. . Činnost společnosti má těžiště zejména v poskytování investiční služby příjímání a předávání pokynu, obchodování na vlastní účet a obhospodařování individuálních portfolií zákazníků. Z tohoto titulu jsou pro společnost relevantní zejména rizika vyplývající ze vztahu k zákazníkovi, tržní rizika, rizika likvidity a operační riziko.

Sheet IF RM2
B2: =+Přehled!B2 -> CYRRUS, a.s. | D2: informace na individuálním základě
B4: IF RM2: Cíle a zásady řízení rizik
B5: Vazba na legislativu: článek 47 nařízení Evropského parlamentu a Rady (EU) č. 2019/2033 (IFR).
B6: Informace uveřejní OCP třídy 2.
B7: Informace platné k datu: | D7: ='IF RM1'!D7 -> 44561
D10: a
D11: Volný text
B12: 1 | C12: Cíle a zásady řízení rizik pro samostatnou kategorii rizik v části třetí IFR "Kapitálové požadavky", včetně shrnutí strategií a procesů pro řízení těchto rizik(*) | D12: Riziko pro zákazníka Riziko pro zákazníka souvisí s poskytováním investičních služeb příjímání a předávání pokynů, obhodpodařování individuálního portfolia zákazníka a investičního poradenství. Rizika pro zákazníka plynoucí z těchto činností jsou měřena prostřednictvím K-faktorů K-CMH, K-COH, K-ASA a K-AUM. Riziko vyplývající z držení klientských prostředků je řízeno prostřednictvím vedení peněžních účtů ve zvláštním režimu u renomovaných bank. Peněžní prostředky na těchto účtech jsou odděleny od peněžních prostředků společnosti. Společnost dále stanovuje kapitálový požadavek v souvislosti s objemem přijatých a předaných anebo provedených pokynů zákazníka. Riziko vyplývající z těchto služeb má charakter spíše operačního rizika a společnost ho řídí nastavením řídícího a kontrolního systému a kvalitní IT podporou. Riziko vyplávající pro zákazníka z vedení zaknihované evidence cenných papírů společností je rovněž součástí rizika operačního a společnost jej řídí shodně jako v předchozím případu. Obdobné platí i pro riziko vyplývající z poskytování služby obhospodařování individuálních portfolií zákazníků a poskytování investičního poradenství. RIziko pro zákazníka je měřeno objemem takto spravovaných aktiv. Společnost jej řídí nastavením investičních limitů, které jsou výsledkem vyhodnocení vhodnosti dané investiční strategie každého jednotlivého zákazníka. Riziko pro trh Kapitálový požadavek rizika pro trh je ve společnosti Cyrrus riziko v obchodním portfoliu měřeno parametrem K-NPR (kapitálový požadavek pro „positions risk“), vztahuje se na všechny pozice v obchodním portfoliu – zejména na pozice v dluhových nástrojích, kapitálových nástrojích, nástrojích kolektivního investování a cizích měnách. K-NPR společnost Cyrrus určuje dle standardizovaného přístupu popsaného v původní regulaci CRR v kapitolách 2, 3 a 4. Jedná se zejména o kapitálové požadavky k obecnému a specifické akciovému riziko, obecnému a specifickému úrokovému riziko a měnovému riziku. Riziko pro podnik Kapitálový požadavek rizika pro podnik se skládá z rizika selhání protistran obchodů (měřeno K-faktorem K-TDC), rizika koncentrace u velkých expozic (měřeno K-faktorem K-CON) a operační riziko související s objemem denního obchodováním na vlastní knihu společnosti (měřeno K-faktorem K-DTF).
B13: 2 | C13: Cíle a zásady řízení rizik pro samostatnou kategorii rizik v části čtvrté IFR "Riziko koncentrace", včetně shrnutí strategií a procesů pro řízení těchto rizik | D13: Společnost obchoduje na vlastní účet, resp. drží investiční nástroje v obchodním portfoliu.Riziko koncetrace je řízeno prostřednictvím pravidelného hodnocení bank, emitentů a protistran.
B14: 3 | C14: Cíle a zásady řízení rizik pro samostatnou kategorii rizik v části páté IFR "Likvidita", včetně shrnutí strategií a procesů pro řízení těchto rizik | D14: Společnost řídí likviditu zejména ohledně svých peněžních závazků vyplývajících ze své provozní a obchodní činnosti a případně nakládání s vlastním majetkem. Likvidita je měřena, sledována a kontrolována v každé z hlavních měn na denní bázi.
B16: (*) se zaměřením na riziko pro zákazníka, pro trh a pro podnik

Sheet IF G1
B2: =+Přehled!B2 -> CYRRUS, a.s. | D2: informace na individuálním základě
B4: IF G1: Funkce zastávané v orgánech jiných právnických osob členy vedoucího orgánu OCP
B5: Vazba na legislativu: čl. 48 písm. a) nařízení Evropského parlamentu a Rady (EU) č. 2019/2033 (IFR).
B6: dynamická tabulka - počet řádků se přizpůsobí podle počtu členů vedoucího orgánu OCP
B7: Informace uveřejní OCP třídy 2.
B8: Informace platné k datu: | D8: ='IF RM1'!D7 -> 44561
C12: Funkce zastávané v orgánech jiných právnických osob jednotlivými členy vedoucího orgánu OCP: | D12: Počet funkcí
C13: Člen vedoucího orgánu - titul, jméno, příjmení, funkce
B14: 1 | C14: Ing. Jiří Loubal, MBA | D14: 9
B15: 2 | C15: Ing.Marek Hatlapatka | D15: 2
B16: 3 | C16: Kamil Kricner | D16: 1
B17: 4
B18: 5

Sheet IF G2
B2: =+Přehled!B2 -> CYRRUS, a.s. | D2: informace na individuálním základě
B4: IF G2: Politika různorodosti a zřízení výboru pro rizika
B5: Vazba na legislativu: čl. 48 písm. b) a c) nařízení Evropského parlamentu a Rady (EU) č. 2019/2033 (IFR).
B6: Informace uveřejní OCP třídy 2.
B7: Informace platné k datu: | D7: ='IF RM1'!D7 -> 44561
D9: a | E9: b
D10: Volný text | E10: Vazba na legislativu
C11: Politika různorodosti s ohledem na výběr členů vedoucího orgánu: | E11: čl. 48 písm. b) nařízení EP a Rady (EU) č. 2019/2033 (IFR)
B12: 1 | C12: Politika různorodosti s ohledem na výběr členů vedoucího orgánu, její cíle a jakékoli relevantní cíle stanovené v této politice a rozsah, v jakém bylo těchto cílů dosaženo(*) | D12: Společnost při obsazování vedoucích pozic na všech úrovních řízení uplatňuje politiku rozmanitosti a antidiskriminační politiku s cílem dosáhnout různorodých názorů a zkušeností s ohledem na gender, věk,rasu, národnost, etnikum, náboženství, sexuální orientaci, sociální původ a zdravotní stav. Společnost politiku různorodosti uplatňuje především při odpovědném náboru pracovníků, řízení jejich talentů, integraci a kariérní postup, rozvoj a mentoring stávajících pracovníků a podporu life-balance principů : rovnováha pracovního a soukromého života pracovníků. Cílem politiky rozmanitosti a antidiskriminační politiky je dosažení vyváženého a různorodého složení vedení Společnosti na všech úrovních a další kultivace pracovního prostředí podporujícího různorodost názorů a zkušeností. Mezi nástroje politiky různorodosti a antidiskriminační politiky patří mimo jiné podpora tréninkových a školících programů, zvyšování povědomí o stereotypech a wisteblowing. Principy odměňování jsou pravidelně revidovány a politika rozmanitosti a antidiskriminační politika je při tomto procesu aktivně realizována.
C13: Výbor pro rizika | E13: čl. 48 písm. c) nařízení EP a Rady (EU) č. 2019/2033 (IFR)
B14: 2 | C14: Byl zřízen výbor pro rizika - ano/ne, případně komentář proč ne | D14: Ano
B15: 3 | C15: Počet členů výboru pro rizika | D15: 8
B16: 4 | C16: Počet zasedání výboru pro rizika za rok | D16: 4
B18: (*) Politika různorodosti s ohledem na výběr členů vedoucího orgánu by měla být popsána včetně záměrů, které při výběru členů vedoucího orgánu sleduje, popisu relevantních cílů k dosažení těchto záměrů obsažených v politice různorodosti a shrnutí, v jakém rozsahu bylo těchto cílů dosaženo.

Sheet EU I CC1.01
B2: =+Přehled!B2 -> CYRRUS, a.s. | E2: informace na individuálním základě
B4: EU I CC1.01 – Složení regulatorního kapitálu
B5: Vazba na legislativu: čl. 49 odst. 1 písm. c) nařízení EP a Rady (EU) č. 2019/2033 (IFR) a přílohy VI a VII prováděcího nařízení Komise (EU) 2021/2284 (ITS k výkaznictví a uveřejňování investičními podniky).
B6: Informace uveřejní OCP třídy 2.
B7: Informace platné k datu: | E7: ='IF RM1'!D7 -> 44561
D9: v jednotkách Kč
D10: a) | E10: b)
D11: Výše | E11: Zdroj založený na referenčních číslech/písmenech rozvahy v auditované účetní závěrce
B12: Kmenový kapitál tier 1: nástroje a rezervy
B13: 1 | C13: KAPITÁL | D13: 80496975
B14: 2 | C14: KAPITÁL TIER 1 | D14: 80496975
B15: 3 | C15: KMENOVÝ KAPITÁL TIER 1 | D15: 80496975
B16: 4 | C16: Zcela splacené kapitálové nástroje | D16: 47020000 | E16: VK_1, VK_4
B17: 5 | C17: Emisní ážio | D17: 171659.98 | E17: VK_2
B18: 6 | C18: Nerozdělený zisk | D18: 35435409 | E18: VK_5
B19: 7 | C19: Kumulovaný ostatní úplný výsledek hospodaření | D19: 35435409
B20: 8 | C20: Ostatní fondy | D20: 0
B21: 9 | C21: Menšinový podíl uznaný v kapitálu CET1 | D21: 0
B22: 10 | C22: Úpravy kmenového kapitálu tier 1 v důsledku obezřetnostních filtrů | D22: 3894388.6 | E22: VK_3
B23: 11 | C23: Ostatní fondy | D23: 0
B24: 12 | C24: (–) ODPOČTY OD KMENOVÉHO KAPITÁLU TIER 1 CELKEM | D24: -55739.628 | E24: VK_7
B25: 13 | C25: (–) Vlastní nástroje zahrnované do kmenového kapitálu tier 1 | D25: 0
B26: 14 | C26: (–) Přímé kapitálové investice do nástrojů zahrnovaných do kmenového kapitálu tier 1 | D26: -5968742.5 | E26: VK_7
B27: 15 | C27: (–) Nepřímé kapitálové investice do nástrojů zahrnovaných do kmenového kapitálu tier 1 | D27: 0
B28: 16 | C28: (–) Syntetické kapitálové investice do nástrojů zahrnovaných do kmenového kapitálu tier 1 | D28: 0
B29: 17 | C29: (–) Ztráty běžného účetního roku | D29: 0
B30: 18 | C30: (–) Goodwill | D30: 0
B31: 19 | C31: (–) Jiná nehmotná aktiva | D31: 0
B32: 20 | C32: (–) Odložené daňové pohledávky, které jsou závislé na budoucím zisku a nevyplývají z přechodných rozdílů, po zohlednění souvisejících daňových závazků | D32: 0
B33: 21 | C33: (–) Kvalifikovaná účast mimo finanční sektor přesahující 15 % kapitálu | D33: -1440971.8
B34: 22 | C34: (–) Celkové kvalifikované účasti v podnicích, které nejsou subjekty finančního sektoru, přesahující 60 % kapitálu | D34: 0
B35: 23 | C35: (–) Nástroje zahrnované do kmenového kapitálu tier 1 subjektů finančního sektoru, v nichž instituce nemá významnou investici | D35: -4527770.6
B36: 24 | C36: (–) Nástroje zahrnované do kmenového kapitálu tier 1 subjektů finančního sektoru, v nichž má instituce významnou investici | D36: 0
B37: 25 | C37: (–) Aktiva penzijního fondu definovaných požitků | D37: 0
B38: 26 | C38: (–) Ostatní odpočty | D38: 0
... B62: 50 | C62: Kapitál tier 2: Ostatní kapitálové položky, odpočty od kapitálu a úpravy kapitálu | D62: 0

Sheet EU I CC2
B2: =+Přehled!B2 -> CYRRUS, a.s. | F2: informace na individuálním základě
B4: EU I CC2: Kapitál: Sesouhlasení regulatorního kapitálu s rozvahou v auditované účetní závěrce
B5: Vazba na legislativu: čl. 49 odst. 1 písm. a) nařízení EP a Rady (EU) č. 2019/2033 (IFR) a přílohy VI a VII prováděcího nařízení Komise (EU) 2021/2284 (ITS k výkaznictví a uveřejňování investičními podniky).
B6: Informace uveřejní OCP třídy 2.
B7: Flexibilní/dynamická šablona (*)
B8: Pro účely uveřejnění informací na individuálním základě se vyplní jen sloupce a, c, sloupec b se ponechá prázdný.
B9: Informace platné k datu: | F9: ='IF RM1'!D7 -> 44561
E11: v jednotkách Kč
D12: a | E12: b | F12: c
D13: Rozvaha dle zveřejněné/ auditované účetní závěrky | E13: Podle regulatorní konsolidace | F13: Křížový odkaz na EU IF CC1 (**)
D14: Ke konci období | E14: Ke konci období
B15: Aktiva – rozdělení podle kategorií aktiv v rozvaze ve zveřejněné/auditované účetní závěrce
B16: 1 | C16: Pokladní hotovost | D16: 673260
B17: 2 | C17: Pohledávky za bankami, za družstevními záložnami | D17: 851029158
B18: 3 | C18: Pohledávky za nebankovními subjekty | D18: 9752351
B19: 4 | C19: Dluhové cenné papíry | D19: 13253720
B20: 5 | C20: Akcie,podílové listy a ostatní podíly | D20: 21570693
B21: 6 | C21: Účasti s rozhodujícím vlivem | D21: 17331483
B22: 7 | C22: Dlouhodobý nehmotný majetek | D22: 1440972
B23: 8 | C23: Dlouhodobý hmotný majetek | D23: 136035
B24: 9 | C24: Ostatní aktiva | D24: =216852291-84000 -> 216768291
B25: 10 | C25: Náklady a příjmy příštích období | D25: 2851073
B26: xxx | C26: Aktiva celkem | D26: =SUM(D16:D25) -> 1134807036
B27: Závazky – rozdělení podle kategorií závazků v rozvaze ve zveřejněné/auditované účetní závěrce
B28: 1 | C28: Závazky vůči nebankovním subjektům | D28: 873654053
B29: 2 | C29: Závazky z dluhových cenných papírů | D29: 83561005
B30: 3 | C30: Ostatní pasiva | D30: 38688000
B31: 4 | C31: Výnosy a výdaje příštích období | D31: 1823064
B32: 5 | C32: Rezervy | D32: 2269178
B33: xxx | C33: Závazky celkem | D33: =SUM(D28:D32) -> 999995300
B34: Vlastní kapitál
B35: 1 | C35: Základní kapitál | D35: 20020000
B36: 2 | C36: Emisní ážio | D36: 171660
B37: 3 | C37: Rezervní fondy a ostatní fondy ze zisku | D37: 3894388
B38: 4 | C38: Kapitálové fondy | D38: 27000000
B39: 5 | C39: Nerozdělený zisk nebo neuhrazená ztráta z předchozích období | D39: 35435409
B40: 6 | C40: Zisk nebo ztráta za účetní období | D40: 48290279
B42: xxx | C42: Vlastní kapitál celkem | D42: =SUM(D35:D41) -> 134811736
B44: (*) viz příloha VII (Pokyny k šablonám), bod 9 ITS k výkaznictví a uveřejňování investičními podniky: Řádky šablony jsou flexibilní a investiční podniky je vyplní v souladu se svou účetní závěrkou. Položky kapitálu v auditované účetní závěrce zahrnují veškeré položky, které jsou složkami regulatorního kapitálu nebo které jsou odečteny od tohoto kapitálu, včetně vlastního kapitálu, závazků, jako jsou dluhy, nebo jiných rozvahových položek, které ovlivňují regulatorní kapitál, jako jsou nehmotná aktiva, goodwill a odložené daňové pohledávky. Investiční podniky podle potřeby rozšíří položky kapitálu v rozvaze, aby zajistily, že všechny složky obsažené v šabloně pro zveřejňování informací o složení kapitálu (šablona EU I CC1) budou uvedeny zvlášť. Investiční podniky rozšíří prvky rozvahy pouze na takovou úroveň členění, která je nezbytná k odvození složek požadovaných šablonou EU I CC1. Zpřístupnění informací musí být přiměřené složitosti rozvahy investičního podniku.
B46: (**) Odkaz ve sloupci c) šablony EU I CC2 bude propojen s odkazem uvedeným ve sloupci b) šablony EU I CC1.01 - viz příloha VII (Pokyny k šablonám), bod 10 ITS k výkaznictví a uveřejňování investičními podniky.

Sheet EU I CCA
B2: =+Přehled!B2 -> CYRRUS, a.s. | D2: informace na individuálním základě
B4: EU I CCA: Kapitál: Hlavní rysy vlastních nástrojů vydaných investičním podnikem
B5: Vazba na legislativu: čl. 49 odst. 1 písm. b) nařízení Evropského parlamentu a Rady (EU) č. 2019/2033 (IFR) a přílohy VI a VII prováděcího nařízení Komise (EU) 2021/2284 (ITS k výkaznictví a uveřejňování investičními podniky).
B6: Informace uveřejní OCP třídy 2.
B7: Informace platné k datu: | D7: ='IF RM1'!D7 -> 44561
D9: a
D10: Volný text
B11: 1 | C11: Emitent | D11: Cyrrus, a.s.
B12: 2 | C12: Specifický identifikační kód (např. CUSIP, ISIN nebo Bloomberg v případě soukromé investice) | D12: nebyl přidělen
B13: 3 | C13: Veřejná nebo soukromá investice | D13: soukromá
B14: 4 | C14: Právní předpisy, jimiž se nástroj řídí | D14: Zákon č. 90/2012 Sb., o obchodních korporacích
B15: 5 | C15: Typ nástroje (typy upřesní každá jurisdikce) (*) (**) | D15: kmenové akcie
B16: 6 | C16: Objem uznaný v regulatorním kapitálu (v milionech, k poslednímu datu vykazování) | D16: 20,020 mil. Kč
B17: 7 | C17: Nominální hodnota nástroje | D17: 20,020 mil. Kč
B18: 8 | C18: Emisní cena | D18: 20,020 mil. Kč
B19: 9 | C19: Cena při splacení | D19: 20,020 mil. Kč
B20: 10 | C20: Účetní klasifikace | D20: vlastní kapitál akcionáře
B21: 11 | C21: Původní datum emise | D21: 37503
B22: 12 | C22: Věčný nebo datovaný | D22: věčný
B23: 13 | C23: Původní datum splatnosti | D23: žádná splatnost
B24: 14 | C24: Vypovězení emitentem s výhradou předchozího schválení orgány dohledu | D24: ne
B25: 15 | C25: Datum možného vypovězení, data případného vypovězení a hodnota při splacení | D25: nepoužije se
B26: 16 | C26: Data následného vypovězení, je-li to relevantní | D26: nepoužije se
C27: Kupony/dividendy
B28: 17 | C28: Pevná nebo pohyblivá dividenda/kupon | D28: pohyblivá
B29: 18 | C29: Kuponová sazba a případný související index | D29: nepoužije se
B30: 19 | C30: Existence systému pozastavení výplaty dividend | D30: ne
B31: 20 | C31: Zcela podle uvážení, částečně podle uvážení nebo povinné (pokud jde o časový harmonogram) | D31: zcela podle uvážení
B32: 21 | C32: Zcela podle uvážení, částečně podle uvážení nebo povinné (pokud jde o objem) | D32: zcela podle uvážení
B33: 22 | C33: Existence navýšení či jiné pobídky ke splacení nástroje | D33: ne
B34: 23 | C34: Nekumulativní nebo kumulativní | D34: nekumulativní
B35: 24 | C35: Konvertibilní nebo nekonvertibilní | D35: nekonvertibilní
B36: 25 | C36: V případě konvertibilního nástroje, rozhodná událost pro konverzi | D36: nepoužije se
B37: 26 | C37: V případě konvertibilního nástroje, konvertibilní zcela nebo částečně | D37: nepoužije se
B38: 27 | C38: V případě konvertibilního nástroje, konverzní faktor | D38: nepoužije se
B39: 28 | C39: V případě konvertibilního nástroje, povinná nebo nepovinná konverze | D39: nepoužije se
... B45: 34 | C45: V případě snížení účetní hodnoty, trvalé nebo dočasné snížení | D45: trvalé i dočastné
B46: 35 | C46: V případě dočasného snížení účetní hodnoty, popis mechanismu zvýšení účetní hodnoty
B47: 36 | C47: Rysy nesplňující požadavky | D47: ne
B48: 37 | C48: V tomto případě uveďte rysy nesplňující požadavky. | D48: nepoužije se
...

Sheet IF KP1
B2: =+Přehled!B2 -> CYRRUS, a.s. | D2: informace na individuálním základě
B4: IF KP1: Kapitálové požadavky - kvantitativní informace
B5: Vazba na legislativu: čl. 50 písm. c) a d) nařízení Evropského parlamentu a Rady (EU) č. 2019/2033 (IFR).
B6: Informace uveřejní OCP třídy 2.
B7: Informace platné k datu: | D7: ='IF RM1'!D7 -> 44561
D10: v jednotkách Kč
C11: Položka | D11: Částka
B12: 1 | C12: Trvalý minimální kapitálový požadavek | D12: 18645000
B13: 2 | C13: Požadavek dle fixních režijních nákladů | D13: 37631412
B14: 3 | C14: Celkový požadavek dle K-faktorů | D14: 25407306
C15: Požadavek dle K-faktorů (v rozpadu ve vztahu k rizikům)
B16: 4 | C16: součet K-faktorů ve vztahu k riziku pro zákazníka | D16: 12730359
B17: 5 | C17: součet K-faktorů ve vztahu k riziku pro trh | D17: 8735527.5
B18: 6 | C18: součet K-faktorů ve vztahu k riziku pro podnik | D18: 3941419.6

Sheet IF KP2
B2: =+Přehled!B2 -> CYRRUS, a.s. | D2: informace na individuálním základě
B4: IF KP2: Kapitálové požadavky - hodnocení přiměřenosti vnitřně stanoveného kapitálu
B5: Vazba na legislativu: čl. 50 písm. a) a b) nařízení Evropského parlamentu a Rady (EU) č. 2019/2033 (IFR).
B6: Informace uveřejní OCP třídy 2.
B7: Informace platné k datu: | D7: ='IF RM1'!D7 -> 44561
C10: a | D10: b
C11: Shrnutí přístupu investičního podniku k hodnocení přiměřenosti jeho vnitřně stanoveného kapitálu vzhledem k současným a budoucím činnostem | D11: Vazba na legislativu
C12: volný text
B13: 1. Shrnutí přístupu | C13: Vnitřně stanovená kapitálová přiměřenost vychází z předpisu IFR a navíc je rozšířená o kapitálový požadavek na operační a ICT rizika. Společnost udržuje svůj kapitál nad touto navýšenou hodnotou, tj. dle požadavku IFR navýšený o požadavek na krytí operačních a ICT rizik. | D13: Čl. 50 písm. a) nařízení EP a Rady (EU) č. 20192/033 (IFR).
B16: Tato tabulka se uveřejňuje pouze na vyžádání ČNB. | C16: a | D16: b
C17: Výsledek interního postupu investičního podniku pro hodnocení kapitálové přiměřenosti včetně složení vedlejšího kapitálu na základě procesu dohledu podle čl. 39 odst. 2 písm. a) směrnice (EU) 2019/2034 (směrnice IFD) | D17: Vazba na legislativu
C18: volný text
B19: 1. Výsledek interního postupu pro hodnocení kapitálové přiměřenosti | D19: Čl. 50 písm. b) nařízení EP a Rady (EU) č. 20192/033 (IFR).
B20: 2. Složení dodatečně stanoveného kapitálu | D20: Čl. 50 písm. b) nařízení EP a Rady (EU) č. 20192/033 (IFR).

Sheet IF O1
B2: =+Přehled!B2 -> CYRRUS, a.s. | E2: informace na individuálním základě
B4: IF O1: Informace o odměňování - část první
B5: Vazba na legislativu: čl. 51 písm. a) a b) nařízení Evropského parlamentu a Rady (EU) č. 2019/2033 (IFR).
B6: Informace uveřejní OCP třídy 2.
B7: Informace platné k datu: | E7: ='IF RM1'!D7 -> 44561
D9: a | E9: b
D10: Volný text nebo hodnoty | E10: čl. 51 nařízení EP a Rady (EU) č. 2019/2033 (IFR).
B11: 1 | C11: Nejdůležitější charakteristiky systému odměňování | D11: Odměňování se řídí vnitřními předpisy společnosti a kariérním řádem pro obchod oddělení , | E11: písm. a)
B12: 2 | C12: Kritéria pro přiznání pohyblivé složky odměny | D12: Pohyblivá složka se nastavuje u každé pracovní pozice zvlášť - měsíčně, kvartálně, ročně. Jedná se o osobní hodnocení, dle KPI
B13: 3 | C13: Zásady pro výplatu odměn prostřednictvím nástrojů | D13: Odměny prostřednictvím nástrojů nejsou vypláceny.
B14: 4 | C14: Zásady pro oddálení splatnosti odměny (deferral) | D14: Odměny s odloženou splatností nejsou vypláceny.
B15: 5 | C15: Kritéria pro převedení odměny (vesting) | D15: Odměny nejsou převáděny.
B16: 6 | C16: Způsob zajištění toho, že zásady odměňování jsou genderově neutrální | D16: platové ohodnocení je stanoveno dle pracovní pozice a zodpovědnosti. | E16: návětí
B17: 7 | C17: Rozdíly v odměňování žen a mužů1 | D17: 0.3036
B18: 8 | C18: Nejvyšší možný poměr mezi pohyblivou a pevnou složkou celkové odměny stanovený v zásadách odměňování pro jednotlivé pracovníky nebo skupiny pracovníků (týká se pouze vybraných pracovníků2) | D18: není stanoveno | E18: písm. b)
B20: 1 Rozdíl vypočten na základě průměrného výdělku všech mužů a všech žen na všech pozicích.
B21: 2 Pracovníci, jejichž pracovní činnosti mají podstatný dopad na rizikový profil investičního podniku nebo aktiv, která spravuje, na základě určení dle čl. 30 odst. 1 a 4 směrnice (EU) 2019/2034 (IFD) a nařízení Komise v přesené pravomoci (EU) 2021/2154.

Sheet IF O2
B2: =+Přehled!B2 -> CYRRUS, a.s. | H2: informace na individuálním základě
B5: IF O2: Informace o odměňování - část druhá
B6: Vazba na legislativu: čl. 51 písm. c) nařízení Evropského parlamentu a Rady (EU) č. 2019/2033 (IFR).
B7: Informace uveřejní OCP třídy 2.
B8: Informace platné k datu: | H8: ='IF RM1'!D7 -> 44561
B9: Rok plnění, za který jsou odměny přiznány (rok N) | H9: rrrr
B11: Položka | C11: Kvantitativní informace o vybraných pracovnících1 | D11: Vedoucí orgán v kontrolní funkci2 | E11: Vedoucí orgán v řídicí funkci3 | F11: Vrcholné řízení4 | G11: Ostatní vybraní pracovníci | H11: čl. 51 písm. c) nařízení EP a Rady (EU) č. 2019/2033 (IFR)
B12: 1 | C12: Pracovníci (počet)5 | D12: 3 | E12: 3 | F12: 2 | G12: 0 | H12: body i) a ii)
B13: 2 | C13: Celkový počet vybraných pracovníků vyjádřený v ekvivalentech plného pracovního úvazku | D13: 3 | E13: 3 | F13: 2 | G13: 0
B14: 3 | C14: Pevné složky odměn celkem (v CZK) v roce N | D14: 1817358 | E14: 3800000 | F14: 1140634 | G14: 0
B15: 4 | C15: z toho: hotovost | D15: 1817358 | E15: 3800000 | F15: 1140634 | G15: 0
B16: 5 | C16: z toho: akcie nebo obdobné vlastnické podíly | D16: 0 | E16: 0 | F16: 0 | G16: 0
B17: 6 | C17: z toho: nástroje spojené s akciemi nebo obdobné nepeněžní nástroje | D17: 0 | E17: 0 | F17: 0 | G17: 0
B18: 7 | C18: z toho: další nástroje vedlejšího kapitálu tier 1 nebo nástrojů kapitálu tier 2 nebo jiných nástrojů, které lze plně přeměnit na nástroje zahrnované do kmenového kapitálu tier 1 nebo odepsat, a které odpovídajícím způsobem odráží úvěrovou kvalitu OCP při jeho trvání | D18: 0 | E18: 0 | F18: 0 | G18: 0
B19: 8 | C19: z toho: nepeněžní nástroje, které odrážejí strukturu nástrojů spravovaných portfolií | D19: 0 | E19: 0 | F19: 0 | G19: 0
B20: 9 | C20: z toho: schválené alternativní nástroje | D20: 0 | E20: 0 | F20: 0 | G20: 0
B21: 10 | C21: z toho: jiné formy | D21: 0 | E21: 0 | F21: 0 | G21: 0
B22: 11 | C22: Pohyblivé složky odměn celkem (v CZK) v roce N | D22: 0 | E22: 0 | F22: 0 | G22: 0
B23: 12 | C23: z toho: hotovost | D23: 0 | E23: 0 | F23: 0 | G23: 0
B24: 13 | C24: z toho: s oddálenou splatností | D24: 0 | E24: 0 | F24: 0 | G24: 0
... B36: 25 | C36: z toho: s oddálenou splatností | D36: 0 | E36: 0 | F36: 0 | G36: 0
B37: Další informace o celkové výši pohyblivých složek odměny (veškeré níže uvedené částky musejí být uvedené výše v rámci celkové pohyblivé složky odměňování)
B38: 26 | C38: Celková výše dosud nevyplacených pohyblivých složek odměn s oddálenou splatností přiznaných v předchozích období plnění a ne v roce N. | D38: 0 | E38: 0 | F38: 0 | G38: 0 | H38: bod iii)
B39: 27 | C39: z toho: budou vyplaceny v roce N | D39: 0 | E39: 0 | F39: 0 | G39: 0
B40: 28 | C40: z toho: budou vyplaceny v následujících letech | D40: 0 | E40: 0 | F40: 0 | G40: 0
B41: 29 | C41: Celková výše snížení pohyblivé složky odměn s oddálenou splatností na základě následné úpravy, přičemž k snížení došlo v roce N s ohledem na pohyblivou složku s oddálenou spatností přiznanou před rokem N, která měla být vyplacena v roce N | D41: 0 | E41: 0 | F41: 0 | G41: 0 | H41: bod iv)
B42: 30 | C42: Celková zaručená pohyblivá složka odměny v roce N | D42: 0 | E42: 0 | F42: 0 | G42: 0 | H42: bod v)
B43: 31 | C43: Zaručená pohyblivá složka odměny v roce N - celkový počet příjemců | D43: 0 | E43: 0 | F43: 0 | G43: 0
B44: 32 | C44: Celková výše odstupného přiznaného v letech před rokem N a vyplaceného v roce N | D44: 0 | E44: 0 | F44: 0 | G44: 0 | H44: bod vi)
B45: 33 | C45: Celková výše odstupného přiznaného v roce N | H45: bod vii)
B46: 34 | C46: z toho: odstupné s oddálenou splatností přiznané v roce N | D46: 0 | E46: 0 | F46: 0 | G46: 0
B47: 35 | C47: Odstupné přiznané v roce N - celkový počet příjemců | D47: 0 | E47: 0 | F47: 0 | G47: 0
B48: 36 | C48: Nejvyšší výše odstupného přiznaného v roce N jednotlivci | D48: 0 | E48: 0 | F48: 0 | G48: 0
B50: 1 Pracovníci, jejichž pracovní činnosti mají podstatný dopad na rizikový profil OCP nebo aktiv, která spravují, na základě určení dle čl. 30 odst. 1 a 4 směrnice (EU) 2019/2034 a nařízení Komise v přesené pravomoci (EU) 2021/2154.
B51: 2 Tj. členové vedoucího orgánu v kontrolní funkci na nejvyšší úrovni konsolidace. Členy vedoucího orgánu v kontrolní funkci v ovládaných osobách je třeba zařadit mezi "ostatní vybrané pracovníky".
B52: 3 Tj. členové vedoucího orgánu v řídicí funkci na nejvyšší úrovni konsolidace. Členy vedoucího orgánu v řídicí funkci v ovládaných osobách je třeba zařadit mezi "vrcholné řízení".
B53: 4 Pracovníci definováni v čl. 3 bod 27 směrnice (EU) 2019/2034.
B54: 5 Počet fyzických osob; údaje ke konci roku.

Sheet IF IP1
B2: =+Přehled!B2 -> CYRRUS, a.s. | F2: informace na individuálním základě
B4: IF IP1 - PROPORTION OF VOTING RIGHTS
B5: Vazba na legislativu: čl. 52 odst. 1 písm. a) nařízení Evropského parlamentu a Rady (EU) č. 2019/2033 (IFR) a Návrh Regulačního technického standardu (RTS) ke zveřejňování informací o investiční politice investičních podniků (*).
B6: Informace uveřejní OCP třídy 2, jejichž hodnota rozvahových a podrozvahových aktiv v průběhu 4-letého období bezprostředně předcházejícího danému účetnímu období je větší než 100 mil EUR.
B7: dynamická tabulka - počet řádků se přizpůsobí podle počtu uveřejňovaných společností
B8: Komentář k podmínkám uveřejňování informací o investiční politice je uveden pod tabulkou.
B9: Informace platné k datu: | F9: ='IF RM1'!D7 -> 44561
F11: CZ verze bude doplněna po uveřejnění ITS v Úředním věstníku
B12: Country | C12: Economic sector | D12: Company name | E12: LEI | F12: Proportion of voting rights attached to shares held directly or indirectly as set out in Article 52(2)
B13: a | C13: b | D13: c | E13: d | F13: e
B19: (*) Návrh Regulačního technického standardu (RTS) ke zveřejňování informací o investiční politice investičních podniků, k jehož vypracování je zmocněna EBA podle čl. 52 odst. 3 IFR, která svou závěrečnou zprávu a návrh RTS o uveřejňování investiční politiky zveřejnila 19.10.2021 na svých webových stránkách. Link: https://www.eba.europa.eu/eba-publishes-final-draft-regulatory-technical-standards-disclosure-investment-policy-investment
B21: Komentář k uveřejňování investiční politiky:
B22: Prahy významnosti pro aplikaci požadavku na zveřejnění:
C23: 1) rozvahová + podrozvahová aktiva příslušného investičního podniku (OCP) jsou vyšší než 100 milionů EUR (průměr za čtyřleté období bezprostředně předcházející danému finančnímu roku)
C24: 2) zveřejní se pouze společnosti, jejichž akcie jsou přijaty k obchodování na regulovaném trhu a investiční podnik drží hlasovací práva přesahující 5% všech hlasovacích práv vydaných společností.
B25: Ze zveřejnění jsou vyloučeny akcie ve správě investičního podniku, u kterých si akcionáři ponechali hlasovací práva (na základě smluvního ujednání zakazujícího investičnímu podniku hlasovat jejich jménem).

Sheet IF IP2
B2: =+Přehled!B2 -> CYRRUS, a.s. | D2: informace na individuálním základě
B4: IF IP2 - VOTING BEHAVIOUR
B5: Vazba na legislativu: čl. 52 odst. 1 písm. b) nařízení Evropského parlamentu a Rady (EU) č. 2019/2033 (IFR) a Návrh Regulačního technického standardu (RTS) ke zveřejňování informací o investiční politice investičních podniků (*).
B6: Informace uveřejní OCP třídy 2, jejichž hodnota rozvahových a podrozvahových aktiv v průběhu 4-letého období bezprostředně předcházejícího danému účetnímu období je větší než 100 mil EUR.
B7: Komentář k podmínkám uveřejňování informací o investiční politice je pod tabulkou.
B8: Informace platné k datu: | D8: ='IF RM1'!D7 -> 44561
C9: CZ verze bude doplněna po uveřejnění ITS v Úředním věstníku
B10: IF IP2.01 - TABLE ON THE DESCRIPTION OF VOTING BEHAVIOUR
B12: Row | C12: Item | D12: Value
B13: 1 | C13: Number of relevant companies in the scope of disclosure
B14: 2 | C14: Number of general meetings in the scope of disclosure during the past year
B15: 3 | C15: Number of general meetings in the scope of disclosure in which the firm has voted during the past year
B16: 4 | C16: Does the investment firm inform the company of negative votes prior to the general meeting?
B17: 5 | C17: Proportion of in-person vote used by the firm
B18: 6 | C18: Proportion of vote by mail or electronic vote used by the firm
B19: 7 | C19: On a consolidated basis, does the investment firm group possess a policy regarding conflicts of interests between relevant entities of the group?
B20: 8 | C20: If yes, summary of this policy
B24: IF IP2.02 - TEMPLATE ON VOTING BEHAVIOUR
B26: Row | C26: Item | D26: Number | E26: Percentage
B27: 1 | C27: General meetings resolutions:
B28: 2 | C28: the firm has approved
B29: 3 | C29: the firm has opposed
B30: 4 | C30: in which the firm has abstained
B31: 5 | C31: General meetings in which the firm has opposed at least one resolution
B35: IF IP2.03 - TABLE ON EXPLANATION OF THE VOTES
B37: Row | C37: Item | D37: Value
B38: 1 | C38: Departments or roles in the investment firm that take part in deciding a voting position
B39: 2 | C39: Description of the validation process for negative votes
B40: 3 | C40: Number of full time equivalents used to analyse resolutions and examine voting records, excluding external resources such as proxy advisor firms
B41: 4 | C41: Explanation of any material change in the rate of approval
B42: 5 | C42: List of publicly available investment policy documents describing the investment firm's objectives
B43: 6 | C43: If relevant, certification of the firm's investment policy
B47: IF IP2.04 - TEMPLATE ON VOTING BEHAVIOUR IN RESOLUTIONS BY THEME
B49: Row | C49: Item | D49: Voted for | E49: Voted against | F49: Abstained | G49: Total
B50: 1 | C50: Voted resolutions by theme during the past year:
B51: 2 | C51: Board structure
B52: 3 | C52: Executive remuneration
B53: 4 | C53: Auditors
B54: 5 | C54: Environment, social, ethics
B55: 6 | C55: Capital transactions
...

Sheet IF IP3
B2: =+Přehled!B2 -> CYRRUS, a.s. | F2: informace na individuálním základě
B4: IF IP3 - PROXY ADVISOR FIRMS
B5: Vazba na legislativu: čl. 52 odst. 1 písm. c) nařízení Evropského parlamentu a Rady (EU) č. 2019/2033 (IFR) a Návrh Regulačního technického standardu (RTS) ke zveřejňování informací o investiční politice investičních podniků (*).
B6: Informace uveřejní OCP třídy 2, jejichž hodnota rozvahových a podrozvahových aktiv v průběhu 4-letého období bezprostředně předcházejícího danému účetnímu období je větší než 100 mil EUR.
B7: Komentář k podmínkám uveřejňování informací o investiční politice je uveden pod tabulkou.
B8: Informace platné k datu: | E8: ='IF RM1'!D7 -> 44561
B10: IF IP3.01 - TABLE ON THE LIST OF PROXY ADVISOR FIRMS
C11: CZ verze bude doplněna po uveřejnění ITS v Úředním věstníku
B12: Name of proxy advisor firm | C12: Identifier of proxy advisor firm | D12: Contract type | E12: Investments associated with the proxy advisor firm | F12: Themes of resolutions in which the proxy firm gave voting recommendations in the past year
B13: a | C13: b | D13: c | E13: d | F13: e
B20: Please insert additional rows as needed.
B23: IF IP3.02 - TABLE ON THE LINKS WITH PROXY ADVISOR FIRMS
B25: Name of proxy advisor firm | C25: Identifier of proxy advisor firm | D25: Relevant undertakings with which the proxy advisor firm has links | E25: Type of link | F25: If relevant, policy regarding conflicts of interests with the proxy advisor firm
B26: a | C26: b | D26: c | E26: d | F26: e
B34: (*) Návrh Regulačního technického standardu (RTS) ke zveřejňování informací o investiční politice investičních podniků, k jehož vypracování je zmocněna EBA podle čl. 52 odst. 3 IFR, která svou závěrečnou zprávu a návrh RTS o uveřejňování investiční politiky zveřejnila 19.10.2021 na svých webových stránkách. Link: https://www.eba.europa.eu/eba-publishes-final-draft-regulatory-technical-standards-disclosure-investment-policy-investment
B36: Komentář k uveřejňování investiční politiky:
B37: Prahy významnosti pro aplikaci požadavku na zveřejnění:
C38: 1) rozvahová + podrozvahová aktiva příslušného investičního podniku (OCP) jsou vyšší než 100 milionů EUR (průměr za čtyřleté období bezprostředně předcházející danému finančnímu roku)
C39: 2) zveřejní se pouze společnosti, jejichž akcie jsou přijaty k obchodování na regulovaném trhu a investiční podnik drží hlasovací práva přesahující 5% všech hlasovacích práv vydaných společností.
B40: Ze zveřejnění jsou vyloučeny akcie ve správě investičního podniku, u kterých si akcionáři ponechali hlasovací práva (na základě smluvního ujednání zakazujícího investičnímu podniku hlasovat jejich jménem).

Sheet IF IP4
B2: =+Přehled!B2 -> CYRRUS, a.s. | C2: informace na individuálním základě
B4: IF IP4: VOTING GUIDELINES
B5: Vazba na legislativu: čl. 52 odst. 1 písm. d) nařízení Evropského parlamentu a Rady (EU) č. 2019/2033 (IFR) a Návrh Regulačního technického standardu (RTS) ke zveřejňování informací o investiční politice investičních podniků (*)
B6: Informace uveřejní OCP třídy 2, jejichž hodnota rozvahových a podrozvahových aktiv v průběhu 4-letého období bezprostředně předcházejícího danému účetnímu období je větší než 100 mil EUR.
B7: Informace platné k datu: | C7: ='IF RM1'!D7 -> 44561
B8: Komentář k podmínkám uveřejňování informací o investiční politice je uveden pod tabulkou.
B9: CZ verze bude doplněna po uveřejnění ITS v Úředním věstníku
B10: Voting guidelines regarding the companies the shares of which are held in accordance with Art. 52(2): short summary and, if needed, links to non-confidential documents
B11: a
B14: (*) Návrh Regulačního technického standardu (RTS) ke zveřejňování informací o investiční politice investičních podniků, k jehož vypracování je zmocněna EBA podle čl. 52 odst. 3 IFR, která svou závěrečnou zprávu a návrh RTS o uveřejňování investiční politiky zveřejnila 19.10.2021 na svých webových stránkách. Link: https://www.eba.europa.eu/eba-publishes-final-draft-regulatory-technical-standards-disclosure-investment-policy-investment
B16: Komentář k uveřejňování investiční politiky:
B17: Prahy významnosti pro aplikaci požadavku na zveřejnění:
B18: 1) rozvahová + podrozvahová aktiva příslušného investičního podniku (OCP) jsou vyšší než 100 milionů EUR (průměr za čtyřleté období bezprostředně předcházející danému finančnímu roku)
B19: 2) zveřejní se pouze společnosti, jejichž akcie jsou přijaty k obchodování na regulovaném trhu a investiční podnik drží hlasovací práva přesahující 5% všech hlasovacích práv vydaných společností.
B20: Ze zveřejnění jsou vyloučeny akcie ve správě investičního podniku, u kterých si akcionáři ponechali hlasovací práva (na základě smluvního ujednání zakazujícího investičnímu podniku hlasovat jejich jménem).
